BEGIN:VCALENDAR
VERSION:2.0
PRODID:-//フリースケート / JMKRIDE公式サイト - ECPv6.15.20//NONSGML v1.0//EN
CALSCALE:GREGORIAN
METHOD:PUBLISH
X-WR-CALNAME:フリースケート / JMKRIDE公式サイト
X-ORIGINAL-URL:https://jmkride.jp
X-WR-CALDESC:フリースケート / JMKRIDE公式サイト のイベント
REFRESH-INTERVAL;VALUE=DURATION:PT1H
X-Robots-Tag:noindex
X-PUBLISHED-TTL:PT1H
BEGIN:VTIMEZONE
TZID:Asia/Tokyo
BEGIN:STANDARD
TZOFFSETFROM:+0900
TZOFFSETTO:+0900
TZNAME:JST
DTSTART:20240101T000000
END:STANDARD
END:VTIMEZONE
BEGIN:VEVENT
DTSTART;TZID=Asia/Tokyo:20250907T080000
DTEND;TZID=Asia/Tokyo:20250907T100000
DTSTAMP:20260423T132401
CREATED:20250904T084724Z
LAST-MODIFIED:20250904T084740Z
UID:11490-1757232000-1757239200@jmkride.jp
SUMMARY:愛知 フリースケート練習会
DESCRIPTION:誰でも参加できます。
URL:https://jmkride.jp/event/250907aichi
LOCATION:愛知 パークアリーナ小牧\, 間々原新田737\, 小牧市\, 愛知県\, 485-0016\, 日本
CATEGORIES:体験・練習会,愛知
END:VEVENT
BEGIN:VEVENT
DTSTART;TZID=Asia/Tokyo:20250907T110000
DTEND;TZID=Asia/Tokyo:20250907T170000
DTSTAMP:20260423T132401
CREATED:20250904T084600Z
LAST-MODIFIED:20250904T084600Z
UID:11486-1757242800-1757264400@jmkride.jp
SUMMARY:大阪 近畿地区フリースケート試乗・練習会
DESCRIPTION:お盆休みも明け、はや一週間、皆さんいかがお過ごしですか？毎年のことながら、残暑厳しいですね・・・あと１月くらいはこんな日が続くんでしょうね。何とか乗り切りましょう！\nさて、毎月恒例の試乗会ですが、９月ももちろん開催します。今回は初めての場所、豊中市の服部緑地にお邪魔します。公園内は甲子園球場の３３倍という広大な敷地ですが、「西中央広場」という場所を目指していらしてください。スターバックスコーヒーのある広場ということです。\n車で来られる方は第２駐車場が近そうです。電車の方は、阪急宝塚線 曽根駅、もしくは北大阪急行線（地下鉄御堂筋線乗り入れ）緑地公園駅が最寄りとなります。\n前回の IBALAB＠広場と違い、今回は占有許可は取っていませんので、一般の方の通行を妨げたり、迷惑にならないよう注意して、楽しい時間を過ごしましょう。\nそれでは、当日、服部緑地 西中央広場でお会いしましょう。
URL:https://jmkride.jp/event/250907osaka
LOCATION:大阪 服部緑地 西中央広場\, １－１ 西中央広場\, 豊中市服部緑地\, 大阪府\, 561-0873\, Japan
CATEGORIES:体験・練習会,大阪
END:VEVENT
END:VCALENDAR