BEGIN:VCALENDAR
VERSION:2.0
PRODID:-//フリースケート / JMKRIDE公式サイト - ECPv6.15.20//NONSGML v1.0//EN
CALSCALE:GREGORIAN
METHOD:PUBLISH
X-WR-CALNAME:フリースケート / JMKRIDE公式サイト
X-ORIGINAL-URL:https://jmkride.jp
X-WR-CALDESC:フリースケート / JMKRIDE公式サイト のイベント
REFRESH-INTERVAL;VALUE=DURATION:PT1H
X-Robots-Tag:noindex
X-PUBLISHED-TTL:PT1H
BEGIN:VTIMEZONE
TZID:Asia/Tokyo
BEGIN:STANDARD
TZOFFSETFROM:+0900
TZOFFSETTO:+0900
TZNAME:JST
DTSTART:20240101T000000
END:STANDARD
END:VTIMEZONE
BEGIN:VEVENT
DTSTART;TZID=Asia/Tokyo:20250104T090000
DTEND;TZID=Asia/Tokyo:20250104T200000
DTSTAMP:20260424T013641
CREATED:20241108T124424Z
LAST-MODIFIED:20241108T124424Z
UID:10383-1735981200-1736020800@jmkride.jp
SUMMARY:茨城 64餅つき大会
DESCRIPTION:毎年恒例の餅つき大会、今年もやります！\n準備から参加できる人は9時にJMKパーク集合。\n餅つきし始めるのは11時予定です。\nフリースケート練習、体験もできます！
URL:https://jmkride.jp/event/240104ibaraki
LOCATION:茨城 JMKパーク\, JMKパーク\, 土浦市\, 茨城県\, 日本
CATEGORIES:体験・練習会,茨城
END:VEVENT
END:VCALENDAR