BEGIN:VCALENDAR
VERSION:2.0
PRODID:-//フリースケート / JMKRIDE公式サイト - ECPv6.15.20//NONSGML v1.0//EN
CALSCALE:GREGORIAN
METHOD:PUBLISH
X-WR-CALNAME:フリースケート / JMKRIDE公式サイト
X-ORIGINAL-URL:https://jmkride.jp
X-WR-CALDESC:フリースケート / JMKRIDE公式サイト のイベント
REFRESH-INTERVAL;VALUE=DURATION:PT1H
X-Robots-Tag:noindex
X-PUBLISHED-TTL:PT1H
BEGIN:VTIMEZONE
TZID:Asia/Tokyo
BEGIN:STANDARD
TZOFFSETFROM:+0900
TZOFFSETTO:+0900
TZNAME:JST
DTSTART:20230101T000000
END:STANDARD
END:VTIMEZONE
BEGIN:VEVENT
DTSTART;TZID=Asia/Tokyo:20240728T080000
DTEND;TZID=Asia/Tokyo:20240728T100000
DTSTAMP:20260424T155718
CREATED:20240619T082811Z
LAST-MODIFIED:20240619T082811Z
UID:9884-1722153600-1722160800@jmkride.jp
SUMMARY:愛知 フリースケート練習会
DESCRIPTION:誰でも参加できます。
URL:https://jmkride.jp/event/240728aichi
LOCATION:愛知 パークアリーナ小牧\, 間々原新田737\, 小牧市\, 愛知県\, 485-0016\, 日本
CATEGORIES:体験・練習会,愛知
END:VEVENT
BEGIN:VEVENT
DTSTART;TZID=Asia/Tokyo:20240728T100000
DTEND;TZID=Asia/Tokyo:20240728T170000
DTSTAMP:20260424T155718
CREATED:20240619T085130Z
LAST-MODIFIED:20240619T085130Z
UID:9907-1722160800-1722186000@jmkride.jp
SUMMARY:茨城 つちうらであそぼ
DESCRIPTION:『 みんなが楽しみ・まなび・つながる場を 』\nそんな思いで土浦駅周辺の施設や店舗がエリアをむすび\n新たな周回イベントを開催します！\n知らなかったあそび場にもぜひ足を運んでみてください
URL:https://jmkride.jp/event/240728ibaraki
LOCATION:茨城 うらら大屋根広場\, 9-1 うらら大屋根広場\, 土浦市大和町\, 茨城県\, 3000036\, 日本
CATEGORIES:体験・練習会,茨城
END:VEVENT
END:VCALENDAR