BEGIN:VCALENDAR
VERSION:2.0
PRODID:-//フリースケート / JMKRIDE公式サイト - ECPv6.15.20//NONSGML v1.0//EN
CALSCALE:GREGORIAN
METHOD:PUBLISH
X-ORIGINAL-URL:https://jmkride.jp
X-WR-CALDESC:フリースケート / JMKRIDE公式サイト のイベント
REFRESH-INTERVAL;VALUE=DURATION:PT1H
X-Robots-Tag:noindex
X-PUBLISHED-TTL:PT1H
BEGIN:VTIMEZONE
TZID:Asia/Tokyo
BEGIN:STANDARD
TZOFFSETFROM:+0900
TZOFFSETTO:+0900
TZNAME:JST
DTSTART:20230101T000000
END:STANDARD
END:VTIMEZONE
BEGIN:VEVENT
DTSTART;TZID=Asia/Tokyo:20240317T100000
DTEND;TZID=Asia/Tokyo:20240317T160000
DTSTAMP:20260425T051048
CREATED:20240129T103242Z
LAST-MODIFIED:20240307T084818Z
UID:9505-1710669600-1710691200@jmkride.jp
SUMMARY:茨城 土浦レイクサイドバイクロア4 フリースケート体験会
DESCRIPTION:バイクロアは大人と子供の自転車運動会＆文化祭。バラエティに富んだシクロクロス形式の自転車レースや、ランニングやキャンプなどの様々なアクティビティをミックスし、地域の美味しいごはんや楽しいマーケットも充実している総合野外自転車イベントです。\nhttps://bikelore.jp
URL:https://jmkride.jp/event/240317ibaraki
LOCATION:茨城 霞ヶ浦総合公園 霞浦の湯となり駐車場\, 土浦市大岩田255\, 3000835\, 日本
CATEGORIES:体験・練習会,茨城
ATTACH;FMTTYPE=image/jpeg:https://jmkride.jp/wp-content/uploads/2024/01/240316バイクロア.jpg
END:VEVENT
BEGIN:VEVENT
DTSTART;TZID=Asia/Tokyo:20240317T100000
DTEND;TZID=Asia/Tokyo:20240317T170000
DTSTAMP:20260425T051048
CREATED:20240129T103357Z
LAST-MODIFIED:20240218T030915Z
UID:9508-1710669600-1710694800@jmkride.jp
SUMMARY:埼玉 NS SESSION
DESCRIPTION:
URL:https://jmkride.jp/event/240317saitama
LOCATION:埼玉 さいたま水上公園\, 日の出2丁目\, 上尾市\, 埼玉県\, 362-0032\, 日本
CATEGORIES:体験・練習会,埼玉
END:VEVENT
END:VCALENDAR