BEGIN:VCALENDAR
VERSION:2.0
PRODID:-//フリースケート / JMKRIDE公式サイト - ECPv6.15.20//NONSGML v1.0//EN
CALSCALE:GREGORIAN
METHOD:PUBLISH
X-WR-CALNAME:フリースケート / JMKRIDE公式サイト
X-ORIGINAL-URL:https://jmkride.jp
X-WR-CALDESC:フリースケート / JMKRIDE公式サイト のイベント
REFRESH-INTERVAL;VALUE=DURATION:PT1H
X-Robots-Tag:noindex
X-PUBLISHED-TTL:PT1H
BEGIN:VTIMEZONE
TZID:Asia/Tokyo
BEGIN:STANDARD
TZOFFSETFROM:+0900
TZOFFSETTO:+0900
TZNAME:JST
DTSTART:20240101T000000
END:STANDARD
END:VTIMEZONE
BEGIN:VEVENT
DTSTART;TZID=Asia/Tokyo:20250502T100000
DTEND;TZID=Asia/Tokyo:20250505T200000
DTSTAMP:20260423T181026
CREATED:20250413T121104Z
LAST-MODIFIED:20250413T121104Z
UID:10909-1746180000-1746475200@jmkride.jp
SUMMARY:茨城 フリースケート世界大会2025
DESCRIPTION:フリースケート世界大会2025を開催します！\nオリンピックに新しい魅力をもたらしたスケートボード。その影響で、ローラースポーツは若い世代で大人気になっていて、どこのスケートパークでも多くの若者でにぎわっています。そんな人気のローラースポーツで「Made in 土浦」のJMKスケートを使った競技「フリースケート」を盛り上げたいと思っています。2023年に土浦市・うらら大屋根広場で開催されたフリースケート世界大会では、世界10の国と地域から６００名ほどが集まり、５種目を競い合いました。 \n世界トップライダーの滑りを間近で見るチャンス！見学だけでも楽しめますので、ぜひ参加してください！ \n・「土浦市」の後援により茨城県土浦市、うらら大屋根広場で開催します。 \n詳しくはコチラ\nhttps://jmkride.jp/2025jo\nhttps://jmkride.jp/fwc2025 (English)
URL:https://jmkride.jp/event/250503jo
LOCATION:茨城 うらら大屋根広場\, 9-1 うらら大屋根広場\, 土浦市大和町\, 茨城県\, 3000036\, 日本
CATEGORIES:大会,茨城
END:VEVENT
BEGIN:VEVENT
DTSTART;TZID=Asia/Tokyo:20250502T100000
DTEND;TZID=Asia/Tokyo:20250505T200000
DTSTAMP:20260423T181026
CREATED:20260115T134106Z
LAST-MODIFIED:20260115T134106Z
UID:12022-1746180000-1746475200@jmkride.jp
SUMMARY:茨城 フリースケート世界大会2026
DESCRIPTION:フリースケート世界大会2026を開催します！\nオリンピックに新しい魅力をもたらしたスケートボード。その影響で、ローラースポーツは若い世代で大人気になっていて、どこのスケートパークでも多くの若者でにぎわっています。そんな人気のローラースポーツで「Made in 土浦」のJMKスケートを使った競技「フリースケート」を盛り上げたいと思っています。2023年に土浦市・うらら大屋根広場で開催されたフリースケート世界大会では、世界10の国と地域から６００名ほどが集まり、５種目を競い合いました。 \n世界トップライダーの滑りを間近で見るチャンス！見学だけでも楽しめますので、ぜひ参加してください！ \n・「土浦市」の後援により茨城県土浦市、うらら大屋根広場で開催します。 \n詳しくはコチラ\nhttps://jmkride.jp/2026jo\nhttps://jmkride.jp/fwc2026 (English)
URL:https://jmkride.jp/event/260502ibaraki
LOCATION:茨城 うらら大屋根広場\, 9-1 うらら大屋根広場\, 土浦市大和町\, 茨城県\, 3000036\, 日本
CATEGORIES:大会,茨城
ORGANIZER;CN="JMKRIDE":MAILTO:info@jmkride.jp
END:VEVENT
BEGIN:VEVENT
DTSTART;TZID=Asia/Tokyo:20250511T080000
DTEND;TZID=Asia/Tokyo:20250511T100000
DTSTAMP:20260423T181026
CREATED:20250413T120055Z
LAST-MODIFIED:20250413T120055Z
UID:10899-1746950400-1746957600@jmkride.jp
SUMMARY:愛知 フリースケート練習会
DESCRIPTION:誰でも参加できます。
URL:https://jmkride.jp/event/250511aichi
LOCATION:愛知 パークアリーナ小牧\, 間々原新田737\, 小牧市\, 愛知県\, 485-0016\, 日本
CATEGORIES:体験・練習会,愛知
END:VEVENT
BEGIN:VEVENT
DTSTART;TZID=Asia/Tokyo:20250511T080000
DTEND;TZID=Asia/Tokyo:20250511T100000
DTSTAMP:20260423T181026
CREATED:20250413T120154Z
LAST-MODIFIED:20250413T120154Z
UID:10901-1746950400-1746957600@jmkride.jp
SUMMARY:愛知 フリースケート練習会
DESCRIPTION:誰でも参加できます。
URL:https://jmkride.jp/event/250518aichi
LOCATION:愛知 パークアリーナ小牧\, 間々原新田737\, 小牧市\, 愛知県\, 485-0016\, 日本
CATEGORIES:体験・練習会,愛知
END:VEVENT
BEGIN:VEVENT
DTSTART;TZID=Asia/Tokyo:20250511T120000
DTEND;TZID=Asia/Tokyo:20250511T160000
DTSTAMP:20260423T181026
CREATED:20250119T063028Z
LAST-MODIFIED:20250119T063028Z
UID:10560-1746964800-1746979200@jmkride.jp
SUMMARY:茨城 都和南小学校フリースケート体験会
DESCRIPTION:内　容　：　初めての方から上級者の方まで誰でも参加OK！ \n主催者　：　フリースケートチーム Sixty-Four \n参加者用LINE　：　参加者はこちらから参加表明してください \n注　意　：\n・ いかなる事故および怪我、病気なども自己責任とさせていただきますので、\nプロテクターなど保護具の装備および体調管理などは各自でお願いします。\nまた、周囲にいる一般の方に注意して練習してください。 \n・ お子様などをお連れになる場合は、お子様から目を離さないようお願いします。\nいかなるお子様の事故および怪我、病気なども保護者の責任とさせていただきます。 \n・ 試乗用のフリースケートはこちらで用意しています。 \n・ 後日、練習会の様子をレポートとして作成し、公式サイト等にアップされます。\n参加申込み書に記入いただいた名前、写真・動画などを使用しますのでご了承ください。\n不都合がある場合は、事前にお知らせください。
URL:https://jmkride.jp/event/250511ibaraki
LOCATION:茨城 土浦市立都和南小学校\, 3090\, 土浦市常名\, 茨城県\, 300-0065\, 日本
CATEGORIES:体験・練習会,茨城
END:VEVENT
BEGIN:VEVENT
DTSTART;TZID=Asia/Tokyo:20250517T100000
DTEND;TZID=Asia/Tokyo:20250518T190000
DTSTAMP:20260423T181026
CREATED:20250413T121353Z
LAST-MODIFIED:20250413T121353Z
UID:10911-1747476000-1747594800@jmkride.jp
SUMMARY:東京 キメラゲームス フリースケート体験会
DESCRIPTION:スポーツ、カルチャー、音楽が融合した日本最大級の体験型エンターテインメントフェス CHIMERA GAMES！\nhttps://games.chimera-union.com
URL:https://jmkride.jp/event/250517tokyo
LOCATION:東京 お台場青海臨時駐車場NOP区画\, お台場青海地区NO区画\, 江東区青海１丁目１\, 東京都\, 1350064\, 日本
CATEGORIES:体験・練習会,東京
ORGANIZER;CN="JMKRIDE":MAILTO:info@jmkride.jp
END:VEVENT
BEGIN:VEVENT
DTSTART;TZID=Asia/Tokyo:20250518T080000
DTEND;TZID=Asia/Tokyo:20250518T100000
DTSTAMP:20260423T181026
CREATED:20250702T054653Z
LAST-MODIFIED:20250702T054653Z
UID:11263-1747555200-1747562400@jmkride.jp
SUMMARY:愛知 フリースケート練習会
DESCRIPTION:誰でも参加できます。
URL:https://jmkride.jp/event/250518aichi-2
LOCATION:愛知 パークアリーナ小牧\, 間々原新田737\, 小牧市\, 愛知県\, 485-0016\, 日本
CATEGORIES:体験・練習会,愛知
END:VEVENT
BEGIN:VEVENT
DTSTART;TZID=Asia/Tokyo:20250525T120000
DTEND;TZID=Asia/Tokyo:20250525T160000
DTSTAMP:20260423T181026
CREATED:20250413T120335Z
LAST-MODIFIED:20250413T120335Z
UID:10903-1748174400-1748188800@jmkride.jp
SUMMARY:東京 フリースケート体験会
DESCRIPTION:場所　:　東京臨海広域防災公園（東京都江東区）\n■車でのアクセス\n首都高速道路有明出口から出て、ゆりかもめ有明駅側。\n公園の有明口から奥のヘリポート付近。（※その時の状況により、公園内の別の場所に移動することがあります。） \n■電車でのアクセス\nりんかい線 国際展示場駅より徒歩4分。\nゆりかもめ 有明駅より徒歩2分。\n公園の有明口から奥のヘリポート。\n主催　:　日本フリースケート協会\n連絡先　:　メールアドレス　info@jflsa.jpn.org\n１） 雨天中止の連絡は、前日18時までに、協会ホームページに掲載します。\n２） 開催可否の判断は、イベント前日17時～18時の時点で『ウェザーニュース：お台場(外部リンク)』の情報を参照して、\nイベント当日の10時　～12時に降水予定がある場合、イベントを中止にします。 \n注意事項\n①公園に大勢の方が来訪されます。他の利用者が安心して通行出来るよう、ご協力をよろしくお願いします。\n②いかなる事故および怪我、病気なども自己責任とさせていただきますので、プロテクターなど保護具の装備および\n体調管理などは各自でお願いします。\n③試乗・滑走される方は、スタッフの指示に従って危険行為に及ばぬようご注意下さい。\n④飲食等のゴミは、各自持ち帰りでお願いします。\n⑤ お子様などをお連れになる場合は、お子様から目を離さないようお願いします。\nいかなるお子様の事故および怪我、病気なども保護者の責任とさせていただきます。\n⑥後日、練習会の様子をレポートとして作成し、公式サイト等にアップされます。\n参加申込み書に記入いただいた名前、写真・動画などを使用しますのでご了承ください。
URL:https://jmkride.jp/event/250525tokyo
LOCATION:東京 東京臨海広域防災公園\, 有明3-8-35\, 江東区\, 東京都\, 135-0063\, 日本
CATEGORIES:体験・練習会,東京
ORGANIZER;CN="%E6%97%A5%E6%9C%AC%E3%83%95%E3%83%AA%E3%83%BC%E3%82%B9%E3%82%B1%E3%83%BC%E3%83%88%E5%8D%94%E4%BC%9A":MAILTO:info@jflsa.jpn.org
END:VEVENT
END:VCALENDAR