BEGIN:VCALENDAR
VERSION:2.0
PRODID:-//フリースケート / JMKRIDE公式サイト - ECPv6.15.20//NONSGML v1.0//EN
CALSCALE:GREGORIAN
METHOD:PUBLISH
X-WR-CALNAME:フリースケート / JMKRIDE公式サイト
X-ORIGINAL-URL:https://jmkride.jp
X-WR-CALDESC:フリースケート / JMKRIDE公式サイト のイベント
REFRESH-INTERVAL;VALUE=DURATION:PT1H
X-Robots-Tag:noindex
X-PUBLISHED-TTL:PT1H
BEGIN:VTIMEZONE
TZID:Asia/Tokyo
BEGIN:STANDARD
TZOFFSETFROM:+0900
TZOFFSETTO:+0900
TZNAME:JST
DTSTART:20240101T000000
END:STANDARD
END:VTIMEZONE
BEGIN:VEVENT
DTSTART;TZID=Asia/Tokyo:20250405T100000
DTEND;TZID=Asia/Tokyo:20250405T160000
DTSTAMP:20260423T194424
CREATED:20250203T024307Z
LAST-MODIFIED:20250203T024307Z
UID:10620-1743847200-1743868800@jmkride.jp
SUMMARY:茨城 土浦桜まつり フリースケート体験会
DESCRIPTION:内　容　：　初めての方から上級者の方まで誰でも参加OK！ \n主催者　：　Kyoki　問い合わせ\n・ 携帯 ： 070-8582-2378（練習会当日専用） \n注　意　：\n・ いかなる事故および怪我、病気なども自己責任とさせていただきますので、\nプロテクターなど保護具の装備および体調管理などは各自でお願いします。\nまた、周囲にいる一般の方に注意して練習してください。 \n・ お子様などをお連れになる場合は、お子様から目を離さないようお願いします。\nいかなるお子様の事故および怪我、病気なども保護者の責任とさせていただきます。 \n・ 試乗用のフリースケートはこちらで用意しています。 \n・ 後日、練習会の様子をレポートとして作成し、公式サイト等にアップされます。\n参加申込み書に記入いただいた名前、写真・動画などを使用しますのでご了承ください。\n不都合がある場合は、事前にお知らせください。
URL:https://jmkride.jp/event/250405ibaraki
LOCATION:茨城 滝の前広場\, １丁目２\, 土浦市川口\, 茨城県\, 300-0033\, 日本
CATEGORIES:体験・練習会,茨城
END:VEVENT
BEGIN:VEVENT
DTSTART;TZID=Asia/Tokyo:20250406T093000
DTEND;TZID=Asia/Tokyo:20250406T170000
DTSTAMP:20260423T194424
CREATED:20250303T072829Z
LAST-MODIFIED:20250303T072829Z
UID:10723-1743931800-1743958800@jmkride.jp
SUMMARY:千葉 蘇我ストリートスポーツフェス
DESCRIPTION:蘇我ストリートスポーツフェス開催！！開催日：2025年4月6日（日）場　所：蘇我スポーツ公園 ボードエリア入場無料・パーク貸し切り初めの一歩、超初心者参戦型、第一回登龍門カップを開催します。プロのMCが最高に盛り上げる中、初心者からオープンクラス、昭和Sクラスまで、老若男女問わず混じってこそさらに盛り上がる登龍門カップに貴方も是非エントリー待ってます(^^)/初の登龍王は誰だ！！ \n各ジャンル体験会など開催インラインスケート、フリースケート、フリースタイルスケートボード、グラインドシューズ当日は無料でパーク滑れます。\n（セクションは登龍門カップ参戦者のみ）
URL:https://jmkride.jp/event/250406chiba
LOCATION:千葉 千葉市蘇我スポーツ公園 フクダ電子ボードエリア\, 川崎町 フクダ電子ボードエリア\, 千葉市中央区\, 260-0835\, 日本
CATEGORIES:体験・練習会,千葉
END:VEVENT
BEGIN:VEVENT
DTSTART;TZID=Asia/Tokyo:20250406T100000
DTEND;TZID=Asia/Tokyo:20250406T160000
DTSTAMP:20260423T194424
CREATED:20250203T024420Z
LAST-MODIFIED:20250203T024420Z
UID:10622-1743933600-1743955200@jmkride.jp
SUMMARY:茨城 土浦桜まつり フリースケート体験会
DESCRIPTION:内　容　：　初めての方から上級者の方まで誰でも参加OK！ \n主催者　：　Kyoki　問い合わせ\n・ 携帯 ： 070-8582-2378（練習会当日専用） \n注　意　：\n・ いかなる事故および怪我、病気なども自己責任とさせていただきますので、\nプロテクターなど保護具の装備および体調管理などは各自でお願いします。\nまた、周囲にいる一般の方に注意して練習してください。 \n・ お子様などをお連れになる場合は、お子様から目を離さないようお願いします。\nいかなるお子様の事故および怪我、病気なども保護者の責任とさせていただきます。 \n・ 試乗用のフリースケートはこちらで用意しています。 \n・ 後日、練習会の様子をレポートとして作成し、公式サイト等にアップされます。\n参加申込み書に記入いただいた名前、写真・動画などを使用しますのでご了承ください。\n不都合がある場合は、事前にお知らせください。
URL:https://jmkride.jp/event/250406ibaraki
LOCATION:茨城 滝の前広場\, １丁目２\, 土浦市川口\, 茨城県\, 300-0033\, 日本
CATEGORIES:体験・練習会,茨城
ORGANIZER;CN="JMKRIDE":MAILTO:info@jmkride.jp
END:VEVENT
BEGIN:VEVENT
DTSTART;TZID=Asia/Tokyo:20250413T080000
DTEND;TZID=Asia/Tokyo:20250413T100000
DTSTAMP:20260423T194424
CREATED:20250413T115634Z
LAST-MODIFIED:20250413T115634Z
UID:10893-1744531200-1744538400@jmkride.jp
SUMMARY:愛知 フリースケート練習会
DESCRIPTION:誰でも参加できます。
URL:https://jmkride.jp/event/250413aichi
LOCATION:愛知 パークアリーナ小牧\, 間々原新田737\, 小牧市\, 愛知県\, 485-0016\, 日本
CATEGORIES:体験・練習会,愛知
END:VEVENT
BEGIN:VEVENT
DTSTART;TZID=Asia/Tokyo:20250413T093000
DTEND;TZID=Asia/Tokyo:20250413T160000
DTSTAMP:20260423T194424
CREATED:20250413T115819Z
LAST-MODIFIED:20250413T115819Z
UID:10895-1744536600-1744560000@jmkride.jp
SUMMARY:千葉 ストリートスポーツキャンプ
DESCRIPTION:なかなか楽しめる場所のないストリートスポーツのできる場所として、月一回、定期的に愛好者が集って、千葉市協力のもと実施をしています。\nストリートスポーツを楽しみながら、体験会やレッスンなどを通して技術の向上とルールやマナーといった知識を共有して、ストリートスポーツの認知を図って行きたいと思います。そして、SSCがストリートスポーツを通した世代を超えたコミュニティの広がる場にしていきたいと思います。\n参加自由！、ストリートな方、挑戦したい方、活動に協力頂ける方、皆でエンジョイしましょう！！　ファミリーでの参加も多いです。年齢・性別関係なし、楽しいからやる！ が基本です^^/
URL:https://jmkride.jp/event/250420chiba
LOCATION:千葉 千葉市蘇我スポーツ公園 フクダ電子ボードエリア\, 川崎町 フクダ電子ボードエリア\, 千葉市中央区\, 260-0835\, 日本
CATEGORIES:体験・練習会,千葉
END:VEVENT
BEGIN:VEVENT
DTSTART;TZID=Asia/Tokyo:20250413T110000
DTEND;TZID=Asia/Tokyo:20250413T170000
DTSTAMP:20260423T194424
CREATED:20250413T115319Z
LAST-MODIFIED:20250413T115319Z
UID:10888-1744542000-1744563600@jmkride.jp
SUMMARY:大阪 近畿地区フリースケート試乗・練習会
DESCRIPTION:今年は花粉の量が多いらしいですね。数年ぶりに割とがっつり症状が出て、くしゃみと鼻水が出放題のピエトロです。皆さんいかがお過ごしでしょうか？\nさて、３月も半ば、そろそろ４月の試乗会の告知をしなければいけません。いつものように、第一日曜日、１１：００スタート。試乗は無料、いっぱい乗っていってください。また、持ってるけどうまく乗れないという方も、乗り方＆練習の仕方など、教えさせていただきますので、ぜひご参加ください。お待ちしています。\n４月以降は改装のため使用できなくなる予定だったIBALAB＠広場ですが、なんと実際に工事が始まるまでしばらくの間使えるとのこと、それは使わせていただかないと・・・というわけで、当日も開催中の「茨木市民さくらまつり」関連イベントという名目で、試乗会をさせていただけることになりました。これまでも、広場向かいの施設でイベントがあった時など、通りがかりに試乗される方が多くいらっしゃいました。今回もさくらまつりに来られた方などの試乗が予想されます。\n新学期や新生活、いろいろ忙しい時期だと思いますが、試乗対応していただける方、ご協力お願いいたします。
URL:https://jmkride.jp/event/250406osaka
LOCATION:大阪 IBALAB＠広場\, 駅前４丁目４−８IBALAB＠広場（茨木市市民会館跡地）\, 茨木市駅前\, 大阪府\, 567-0888\, 日本
CATEGORIES:体験・練習会,大阪
END:VEVENT
BEGIN:VEVENT
DTSTART;TZID=Asia/Tokyo:20250413T120000
DTEND;TZID=Asia/Tokyo:20250413T160000
DTSTAMP:20260423T194424
CREATED:20250119T062926Z
LAST-MODIFIED:20250119T062926Z
UID:10557-1744545600-1744560000@jmkride.jp
SUMMARY:茨城 都和南小学校フリースケート体験会
DESCRIPTION:内　容　：　初めての方から上級者の方まで誰でも参加OK！ \n主催者　：　フリースケートチーム Sixty-Four \n参加者用LINE　：　参加者はこちらから参加表明してください \n注　意　：\n・ いかなる事故および怪我、病気なども自己責任とさせていただきますので、\nプロテクターなど保護具の装備および体調管理などは各自でお願いします。\nまた、周囲にいる一般の方に注意して練習してください。 \n・ お子様などをお連れになる場合は、お子様から目を離さないようお願いします。\nいかなるお子様の事故および怪我、病気なども保護者の責任とさせていただきます。 \n・ 試乗用のフリースケートはこちらで用意しています。 \n・ 後日、練習会の様子をレポートとして作成し、公式サイト等にアップされます。\n参加申込み書に記入いただいた名前、写真・動画などを使用しますのでご了承ください。\n不都合がある場合は、事前にお知らせください。
URL:https://jmkride.jp/event/250413ibaraki
LOCATION:茨城 土浦市立都和南小学校\, 3090\, 土浦市常名\, 茨城県\, 300-0065\, 日本
CATEGORIES:体験・練習会,茨城
END:VEVENT
BEGIN:VEVENT
DTSTART;TZID=Asia/Tokyo:20250413T130000
DTEND;TZID=Asia/Tokyo:20250413T170000
DTSTAMP:20260423T194424
CREATED:20250413T115522Z
LAST-MODIFIED:20250413T115522Z
UID:10891-1744549200-1744563600@jmkride.jp
SUMMARY:埼玉練習会
DESCRIPTION:[内容]\nみんなでワイワイフリースケーティング！\n試乗用フリースケートも用意してるので興味ある方には試乗もしてもらいつつ、フリースケートの魅力も伝える練習会です！ \n[連絡先]\n‪https://instagram.com/linksfreeskatesteam \nこちらのLinksアカウントに直接DMをください。 \nフリースケートチームLinks HP\nhttps://links-20170504.amebaownd.com/
URL:https://jmkride.jp/event/250413saitama
LOCATION:埼玉 アイスアリーナ第2駐車場\, アイスアリーナ第2駐車場\, 上尾市\, 埼玉県\, Japan
CATEGORIES:体験・練習会,埼玉
END:VEVENT
BEGIN:VEVENT
DTSTART;TZID=Asia/Tokyo:20250420T100000
DTEND;TZID=Asia/Tokyo:20250420T150000
DTSTAMP:20260423T194424
CREATED:20250203T024637Z
LAST-MODIFIED:20250203T024637Z
UID:10623-1745143200-1745161200@jmkride.jp
SUMMARY:茨城 かすみがうらマラソン フリースケート体験会
DESCRIPTION:土浦のまちなかにランナーズ・ヴィレッジ～土浦まちなか元気市～が出現します。\n盛りだくさんのイベントで、全国から集まるランナーの皆様をおもてなしします。\nhttps://kasumigaura-marathon.jp
URL:https://jmkride.jp/event/250420ibaraki
LOCATION:茨城 川口ショッピングセンター モール505\, 川口ショッピングセンター モール505\, 土浦市\, 茨城県\, 300-0033\, 日本
CATEGORIES:体験・練習会,茨城
END:VEVENT
BEGIN:VEVENT
DTSTART;TZID=Asia/Tokyo:20250427T080000
DTEND;TZID=Asia/Tokyo:20250427T100000
DTSTAMP:20260423T194424
CREATED:20250413T115919Z
LAST-MODIFIED:20250413T115919Z
UID:10897-1745740800-1745748000@jmkride.jp
SUMMARY:愛知 フリースケート練習会
DESCRIPTION:誰でも参加できます。
URL:https://jmkride.jp/event/250427aichi
LOCATION:愛知 パークアリーナ小牧\, 間々原新田737\, 小牧市\, 愛知県\, 485-0016\, 日本
CATEGORIES:体験・練習会,愛知
END:VEVENT
BEGIN:VEVENT
DTSTART;TZID=Asia/Tokyo:20250427T120000
DTEND;TZID=Asia/Tokyo:20250427T160000
DTSTAMP:20260423T194424
CREATED:20250119T063741Z
LAST-MODIFIED:20250119T063741Z
UID:10565-1745755200-1745769600@jmkride.jp
SUMMARY:東京 フリースケート体験会
DESCRIPTION:場所　:　東京臨海広域防災公園（東京都江東区）\n■車でのアクセス\n首都高速道路有明出口から出て、ゆりかもめ有明駅側。\n公園の有明口から奥のヘリポート付近。（※その時の状況により、公園内の別の場所に移動することがあります。） \n■電車でのアクセス\nりんかい線 国際展示場駅より徒歩4分。\nゆりかもめ 有明駅より徒歩2分。\n公園の有明口から奥のヘリポート。\n主催　:　日本フリースケート協会\n連絡先　:　メールアドレス　info@jflsa.jpn.org\n１） 雨天中止の連絡は、前日18時までに、協会ホームページに掲載します。\n２） 開催可否の判断は、イベント前日17時～18時の時点で『ウェザーニュース：お台場(外部リンク)』の情報を参照して、\nイベント当日の10時　～12時に降水予定がある場合、イベントを中止にします。 \n注意事項\n①公園に大勢の方が来訪されます。他の利用者が安心して通行出来るよう、ご協力をよろしくお願いします。\n②いかなる事故および怪我、病気なども自己責任とさせていただきますので、プロテクターなど保護具の装備および\n体調管理などは各自でお願いします。\n③試乗・滑走される方は、スタッフの指示に従って危険行為に及ばぬようご注意下さい。\n④飲食等のゴミは、各自持ち帰りでお願いします。\n⑤ お子様などをお連れになる場合は、お子様から目を離さないようお願いします。\nいかなるお子様の事故および怪我、病気なども保護者の責任とさせていただきます。\n⑥後日、練習会の様子をレポートとして作成し、公式サイト等にアップされます。\n参加申込み書に記入いただいた名前、写真・動画などを使用しますのでご了承ください。
URL:https://jmkride.jp/event/250427tokyo
LOCATION:東京 東京臨海広域防災公園\, 有明3-8-35\, 江東区\, 東京都\, 135-0063\, 日本
CATEGORIES:体験・練習会,東京
ATTACH;FMTTYPE=image/jpeg:https://jmkride.jp/wp-content/uploads/2023/11/240728tokyo.jpg
ORGANIZER;CN="JMKRIDE":MAILTO:info@jmkride.jp
END:VEVENT
END:VCALENDAR