BEGIN:VCALENDAR
VERSION:2.0
PRODID:-//フリースケート / JMKRIDE公式サイト - ECPv6.15.20//NONSGML v1.0//EN
CALSCALE:GREGORIAN
METHOD:PUBLISH
X-WR-CALNAME:フリースケート / JMKRIDE公式サイト
X-ORIGINAL-URL:https://jmkride.jp
X-WR-CALDESC:フリースケート / JMKRIDE公式サイト のイベント
REFRESH-INTERVAL;VALUE=DURATION:PT1H
X-Robots-Tag:noindex
X-PUBLISHED-TTL:PT1H
BEGIN:VTIMEZONE
TZID:Asia/Tokyo
BEGIN:STANDARD
TZOFFSETFROM:+0900
TZOFFSETTO:+0900
TZNAME:JST
DTSTART:20240101T000000
END:STANDARD
END:VTIMEZONE
BEGIN:VEVENT
DTSTART;TZID=Asia/Tokyo:20250302T110000
DTEND;TZID=Asia/Tokyo:20250302T170000
DTSTAMP:20260423T211052
CREATED:20250303T071920Z
LAST-MODIFIED:20250303T071920Z
UID:10714-1740913200-1740934800@jmkride.jp
SUMMARY:大阪 近畿地区フリースケート試乗・練習会
DESCRIPTION:数年に一度の寒波が月に何度も来ている不思議な状況に、言葉って難しいなと感じてるピエトロです。\nさて、３月の月例試乗会ですが、久しぶりに大阪市西淀川区の「旧大阪市営バス 歌島橋バスターミナル跡地」にお邪魔します。屋根もあり、適度な空調も効き、良い場所だったのですが、ここでの試乗会もいったん今回で終わります。大阪・関西万博の為の送迎バスの車庫になるとか。なので、まだ一回もバスターミナルで滑ってないよって人、しばらく使えなくなるなら最後に滑っとくかって人、ぜひご参加ください。そして、フリースケートしたことないって人、ちょっと乗ったけどうまく乗れないって人、丁寧に教えるので、ぜひぜひ体験や練習しに来てください。\n雨天決行。現地でお待ちしてます。
URL:https://jmkride.jp/event/250302osaka
LOCATION:大阪 歌島橋バスターミナル跡地\, 御幣島２丁目４−２０\, 大阪市西淀川区\, 大阪府\, 5550012\, 日本
CATEGORIES:体験・練習会,大阪
END:VEVENT
BEGIN:VEVENT
DTSTART;TZID=Asia/Tokyo:20250309T080000
DTEND;TZID=Asia/Tokyo:20250309T100000
DTSTAMP:20260423T211052
CREATED:20250303T072050Z
LAST-MODIFIED:20250303T072050Z
UID:10717-1741507200-1741514400@jmkride.jp
SUMMARY:愛知 フリースケート練習会
DESCRIPTION:誰でも参加できます。
URL:https://jmkride.jp/event/250309aichi
LOCATION:愛知 パークアリーナ小牧\, 間々原新田737\, 小牧市\, 愛知県\, 485-0016\, 日本
CATEGORIES:体験・練習会,愛知
END:VEVENT
BEGIN:VEVENT
DTSTART;TZID=Asia/Tokyo:20250309T110000
DTEND;TZID=Asia/Tokyo:20250309T170000
DTSTAMP:20260423T211052
CREATED:20250303T072207Z
LAST-MODIFIED:20250303T072207Z
UID:10719-1741518000-1741539600@jmkride.jp
SUMMARY:埼玉練習会
DESCRIPTION:[内容]\nみんなでワイワイフリースケーティング！\n試乗用フリースケートも用意してるので興味ある方には試乗もしてもらいつつ、フリースケートの魅力も伝える練習会です！ \n[連絡先]\n‪https://instagram.com/linksfreeskatesteam \nこちらのLinksアカウントに直接DMをください。 \nフリースケートチームLinks HP\nhttps://links-20170504.amebaownd.com/
URL:https://jmkride.jp/event/250309saitama
LOCATION:埼玉 さいたま水上公園\, 日の出2丁目\, 上尾市\, 埼玉県\, 362-0032\, 日本
CATEGORIES:体験・練習会,埼玉
END:VEVENT
BEGIN:VEVENT
DTSTART;TZID=Asia/Tokyo:20250309T120000
DTEND;TZID=Asia/Tokyo:20250309T160000
DTSTAMP:20260423T211052
CREATED:20250119T062815Z
LAST-MODIFIED:20250119T062815Z
UID:10555-1741521600-1741536000@jmkride.jp
SUMMARY:茨城 都和南小学校フリースケート体験会
DESCRIPTION:内　容　：　初めての方から上級者の方まで誰でも参加OK！ \n主催者　：　フリースケートチーム Sixty-Four \n参加者用LINE　：　参加者はこちらから参加表明してください \n注　意　：\n・ いかなる事故および怪我、病気なども自己責任とさせていただきますので、\nプロテクターなど保護具の装備および体調管理などは各自でお願いします。\nまた、周囲にいる一般の方に注意して練習してください。 \n・ お子様などをお連れになる場合は、お子様から目を離さないようお願いします。\nいかなるお子様の事故および怪我、病気なども保護者の責任とさせていただきます。 \n・ 試乗用のフリースケートはこちらで用意しています。 \n・ 後日、練習会の様子をレポートとして作成し、公式サイト等にアップされます。\n参加申込み書に記入いただいた名前、写真・動画などを使用しますのでご了承ください。\n不都合がある場合は、事前にお知らせください。
URL:https://jmkride.jp/event/250309ibaraki
LOCATION:茨城 土浦市立都和南小学校\, 3090\, 土浦市常名\, 茨城県\, 300-0065\, 日本
CATEGORIES:体験・練習会,茨城
END:VEVENT
BEGIN:VEVENT
DTSTART;TZID=Asia/Tokyo:20250316T093000
DTEND;TZID=Asia/Tokyo:20250316T160000
DTSTAMP:20260423T211052
CREATED:20250303T072318Z
LAST-MODIFIED:20250303T072318Z
UID:10721-1742117400-1742140800@jmkride.jp
SUMMARY:千葉 ストリートスポーツキャンプ
DESCRIPTION:なかなか楽しめる場所のないストリートスポーツのできる場所として、月一回、定期的に愛好者が集って、千葉市協力のもと実施をしています。\nストリートスポーツを楽しみながら、体験会やレッスンなどを通して技術の向上とルールやマナーといった知識を共有して、ストリートスポーツの認知を図って行きたいと思います。そして、SSCがストリートスポーツを通した世代を超えたコミュニティの広がる場にしていきたいと思います。\n参加自由！、ストリートな方、挑戦したい方、活動に協力頂ける方、皆でエンジョイしましょう！！　ファミリーでの参加も多いです。年齢・性別関係なし、楽しいからやる！ が基本です^^/
URL:https://jmkride.jp/event/250316chiba
LOCATION:千葉 千葉市蘇我スポーツ公園 フクダ電子ボードエリア\, 川崎町 フクダ電子ボードエリア\, 千葉市中央区\, 260-0835\, 日本
CATEGORIES:体験・練習会,千葉
END:VEVENT
BEGIN:VEVENT
DTSTART;TZID=Asia/Tokyo:20250323T080000
DTEND;TZID=Asia/Tokyo:20250323T100000
DTSTAMP:20260423T211052
CREATED:20250119T062429Z
LAST-MODIFIED:20250119T062429Z
UID:10551-1742716800-1742724000@jmkride.jp
SUMMARY:愛知 フリースケート練習会
DESCRIPTION:誰でも参加できます。
URL:https://jmkride.jp/event/250223aichi
LOCATION:愛知 パークアリーナ小牧\, 間々原新田737\, 小牧市\, 愛知県\, 485-0016\, 日本
CATEGORIES:体験・練習会,愛知
END:VEVENT
BEGIN:VEVENT
DTSTART;TZID=Asia/Tokyo:20250330T120000
DTEND;TZID=Asia/Tokyo:20250330T160000
DTSTAMP:20260423T211052
CREATED:20250119T063644Z
LAST-MODIFIED:20250119T063644Z
UID:10564-1743336000-1743350400@jmkride.jp
SUMMARY:東京 フリースケート体験会
DESCRIPTION:場所　:　東京臨海広域防災公園（東京都江東区）\n■車でのアクセス\n首都高速道路有明出口から出て、ゆりかもめ有明駅側。\n公園の有明口から奥のヘリポート付近。（※その時の状況により、公園内の別の場所に移動することがあります。） \n■電車でのアクセス\nりんかい線 国際展示場駅より徒歩4分。\nゆりかもめ 有明駅より徒歩2分。\n公園の有明口から奥のヘリポート。\n主催　:　日本フリースケート協会\n連絡先　:　メールアドレス　info@jflsa.jpn.org\n１） 雨天中止の連絡は、前日18時までに、協会ホームページに掲載します。\n２） 開催可否の判断は、イベント前日17時～18時の時点で『ウェザーニュース：お台場(外部リンク)』の情報を参照して、\nイベント当日の10時　～12時に降水予定がある場合、イベントを中止にします。 \n注意事項\n①公園に大勢の方が来訪されます。他の利用者が安心して通行出来るよう、ご協力をよろしくお願いします。\n②いかなる事故および怪我、病気なども自己責任とさせていただきますので、プロテクターなど保護具の装備および\n体調管理などは各自でお願いします。\n③試乗・滑走される方は、スタッフの指示に従って危険行為に及ばぬようご注意下さい。\n④飲食等のゴミは、各自持ち帰りでお願いします。\n⑤ お子様などをお連れになる場合は、お子様から目を離さないようお願いします。\nいかなるお子様の事故および怪我、病気なども保護者の責任とさせていただきます。\n⑥後日、練習会の様子をレポートとして作成し、公式サイト等にアップされます。\n参加申込み書に記入いただいた名前、写真・動画などを使用しますのでご了承ください。
URL:https://jmkride.jp/event/250330tpkyo
LOCATION:東京 東京臨海広域防災公園\, 有明3-8-35\, 江東区\, 東京都\, 135-0063\, 日本
CATEGORIES:体験・練習会,東京
ATTACH;FMTTYPE=image/jpeg:https://jmkride.jp/wp-content/uploads/2023/11/241222tokyo.jpg
ORGANIZER;CN="JMKRIDE":MAILTO:info@jmkride.jp
END:VEVENT
END:VCALENDAR