BEGIN:VCALENDAR
VERSION:2.0
PRODID:-//フリースケート / JMKRIDE公式サイト - ECPv6.15.20//NONSGML v1.0//EN
CALSCALE:GREGORIAN
METHOD:PUBLISH
X-WR-CALNAME:フリースケート / JMKRIDE公式サイト
X-ORIGINAL-URL:https://jmkride.jp
X-WR-CALDESC:フリースケート / JMKRIDE公式サイト のイベント
REFRESH-INTERVAL;VALUE=DURATION:PT1H
X-Robots-Tag:noindex
X-PUBLISHED-TTL:PT1H
BEGIN:VTIMEZONE
TZID:Asia/Tokyo
BEGIN:STANDARD
TZOFFSETFROM:+0900
TZOFFSETTO:+0900
TZNAME:JST
DTSTART:20230101T000000
END:STANDARD
END:VTIMEZONE
BEGIN:VEVENT
DTSTART;TZID=Asia/Tokyo:20241006T100000
DTEND;TZID=Asia/Tokyo:20241006T170000
DTSTAMP:20260424T111724
CREATED:20241005T145107Z
LAST-MODIFIED:20241005T145107Z
UID:10233-1728208800-1728234000@jmkride.jp
SUMMARY:茨城 フリースケート体験会
DESCRIPTION:
URL:https://jmkride.jp/event/%e8%8c%a8%e5%9f%8e-%e3%83%95%e3%83%aa%e3%83%bc%e3%82%b9%e3%82%b1%e3%83%bc%e3%83%88%e4%bd%93%e9%a8%93%e4%bc%9a
LOCATION:茨城 りんりんポート土浦\, 川口２丁目１３−２５\, 土浦市\, 茨城県\, 300-0033\, 日本
CATEGORIES:体験・練習会,茨城
ATTACH;FMTTYPE=image/jpeg:https://jmkride.jp/wp-content/uploads/2024/10/241006しくろ.jpg
END:VEVENT
BEGIN:VEVENT
DTSTART;TZID=Asia/Tokyo:20241013T080000
DTEND;TZID=Asia/Tokyo:20241013T100000
DTSTAMP:20260424T111724
CREATED:20241012T125259Z
LAST-MODIFIED:20241012T125259Z
UID:10258-1728806400-1728813600@jmkride.jp
SUMMARY:愛知 フリースケート練習会
DESCRIPTION:誰でも参加できます。
URL:https://jmkride.jp/event/241013aichi
LOCATION:愛知 パークアリーナ小牧\, 間々原新田737\, 小牧市\, 愛知県\, 485-0016\, 日本
CATEGORIES:体験・練習会,愛知
END:VEVENT
BEGIN:VEVENT
DTSTART;TZID=Asia/Tokyo:20241013T120000
DTEND;TZID=Asia/Tokyo:20241013T160000
DTSTAMP:20260424T111724
CREATED:20241012T125148Z
LAST-MODIFIED:20241012T125148Z
UID:10255-1728820800-1728835200@jmkride.jp
SUMMARY:茨城 都和南小学校フリースケート体験会
DESCRIPTION:内　容　：　初めての方から上級者の方まで誰でも参加OK！ \n主催者　：　フリースケートチーム Sixty-Four \n参加者用LINE　：　参加者はこちらから参加表明してください \n注　意　：\n・ いかなる事故および怪我、病気なども自己責任とさせていただきますので、\nプロテクターなど保護具の装備および体調管理などは各自でお願いします。\nまた、周囲にいる一般の方に注意して練習してください。 \n・ お子様などをお連れになる場合は、お子様から目を離さないようお願いします。\nいかなるお子様の事故および怪我、病気なども保護者の責任とさせていただきます。 \n・ 試乗用のフリースケートはこちらで用意しています。 \n・ 後日、練習会の様子をレポートとして作成し、公式サイト等にアップされます。\n参加申込み書に記入いただいた名前、写真・動画などを使用しますのでご了承ください。\n不都合がある場合は、事前にお知らせください。
URL:https://jmkride.jp/event/241013ibaraki
LOCATION:茨城 土浦市立都和南小学校\, 3090\, 土浦市常名\, 茨城県\, 300-0065\, 日本
CATEGORIES:体験・練習会,茨城
ATTACH;FMTTYPE=image/jpeg:https://jmkride.jp/wp-content/uploads/2024/10/241013都和南小.jpg
END:VEVENT
BEGIN:VEVENT
DTSTART;TZID=Asia/Tokyo:20241013T120000
DTEND;TZID=Asia/Tokyo:20241013T170000
DTSTAMP:20260424T111724
CREATED:20241012T125405Z
LAST-MODIFIED:20241012T125405Z
UID:10253-1728820800-1728838800@jmkride.jp
SUMMARY:埼玉練習会
DESCRIPTION:[内容]\nみんなでワイワイフリースケーティング！\n試乗用フリースケートも用意してるので興味ある方には試乗もしてもらいつつ、フリースケートの魅力も伝える練習会です！ \n[連絡先]\n‪https://instagram.com/linksfreeskatesteam \nこちらのLinksアカウントに直接DMをください。 \nフリースケートチームLinks HP\nhttps://links-20170504.amebaownd.com/
URL:https://jmkride.jp/event/241013saitama
LOCATION:埼玉 アイスアリーナ第2駐車場\, アイスアリーナ第2駐車場\, 上尾市\, 埼玉県\, Japan
CATEGORIES:体験・練習会,埼玉
END:VEVENT
BEGIN:VEVENT
DTSTART;TZID=Asia/Tokyo:20241020T100000
DTEND;TZID=Asia/Tokyo:20241020T160000
DTSTAMP:20260424T111724
CREATED:20241012T125552Z
LAST-MODIFIED:20241012T125552Z
UID:10260-1729418400-1729440000@jmkride.jp
SUMMARY:千葉 ストリートスポーツキャンプ
DESCRIPTION:なかなか楽しめる場所のないストリートスポーツのできる場所として、月一回、定期的に愛好者が集って、千葉市協力のもと実施をしています。\nストリートスポーツを楽しみながら、体験会やレッスンなどを通して技術の向上とルールやマナーといった知識を共有して、ストリートスポーツの認知を図って行きたいと思います。そして、SSCがストリートスポーツを通した世代を超えたコミュニティの広がる場にしていきたいと思います。\n参加自由！、ストリートな方、挑戦したい方、活動に協力頂ける方、皆でエンジョイしましょう！！　ファミリーでの参加も多いです。年齢・性別関係なし、楽しいからやる！ が基本です^^/
URL:https://jmkride.jp/event/241020chiba
LOCATION:千葉 千葉市蘇我スポーツ公園 フクダ電子ボードエリア\, 川崎町 フクダ電子ボードエリア\, 千葉市中央区\, 260-0835\, 日本
CATEGORIES:体験・練習会,千葉
END:VEVENT
BEGIN:VEVENT
DTSTART;TZID=Asia/Tokyo:20241020T110000
DTEND;TZID=Asia/Tokyo:20241020T170000
DTSTAMP:20260424T111724
CREATED:20241012T125738Z
LAST-MODIFIED:20241012T125738Z
UID:10263-1729422000-1729443600@jmkride.jp
SUMMARY:大阪 近畿地区フリースケート試乗・練習会
DESCRIPTION:朝夕少しずつ涼しくなってきて秋の気配を感じるようになってきましたが、いかがお過ごしでしょうか？さて、毎月第一日曜日に開催していた近畿地区試乗会ですが、10月は会場のスケジュールの関係で20日 (日) の開催となりました。お間違いなきようお願いいたします。10月後半なので、少しは日中も涼しくなってくれていたら嬉しいなぁ。あと、雨も勘弁願いたい(笑)\nIBALAB@広場での試乗会も、残すところあと３回。最後まで、怪我無く安全に楽しみましょう。\nたくさんのご参加、お待ちしています。
URL:https://jmkride.jp/event/241020osaka
LOCATION:大阪 IBALAB＠広場\, 駅前４丁目４−８IBALAB＠広場（茨木市市民会館跡地）\, 茨木市駅前\, 大阪府\, 567-0888\, 日本
CATEGORIES:体験・練習会,大阪
END:VEVENT
BEGIN:VEVENT
DTSTART;TZID=Asia/Tokyo:20241020T120000
DTEND;TZID=Asia/Tokyo:20241020T160000
DTSTAMP:20260424T111724
CREATED:20231110T090548Z
LAST-MODIFIED:20241019T134542Z
UID:9265-1729425600-1729440000@jmkride.jp
SUMMARY:東京 フリースケート体験会
DESCRIPTION:場所　:　東京臨海広域防災公園（東京都江東区）\n■車でのアクセス\n首都高速道路有明出口から出て、ゆりかもめ有明駅側。\n公園の有明口から奥のヘリポート付近。（※その時の状況により、公園内の別の場所に移動することがあります。） \n■電車でのアクセス\nりんかい線 国際展示場駅より徒歩4分。\nゆりかもめ 有明駅より徒歩2分。\n公園の有明口から奥のヘリポート。\n主催　:　日本フリースケート協会\n連絡先　:　メールアドレス　info@jflsa.jpn.org\n１） 雨天中止の連絡は、前日18時までに、協会ホームページに掲載します。\n２） 開催可否の判断は、イベント前日17時～18時の時点で『ウェザーニュース：お台場(外部リンク)』の情報を参照して、\nイベント当日の10時　～12時に降水予定がある場合、イベントを中止にします。 \n注意事項\n①公園に大勢の方が来訪されます。他の利用者が安心して通行出来るよう、ご協力をよろしくお願いします。\n②いかなる事故および怪我、病気なども自己責任とさせていただきますので、プロテクターなど保護具の装備および\n体調管理などは各自でお願いします。\n③試乗・滑走される方は、スタッフの指示に従って危険行為に及ばぬようご注意下さい。\n④飲食等のゴミは、各自持ち帰りでお願いします。\n⑤ お子様などをお連れになる場合は、お子様から目を離さないようお願いします。\nいかなるお子様の事故および怪我、病気なども保護者の責任とさせていただきます。\n⑥後日、練習会の様子をレポートとして作成し、公式サイト等にアップされます。\n参加申込み書に記入いただいた名前、写真・動画などを使用しますのでご了承ください。
URL:https://jmkride.jp/event/241020tokyo
LOCATION:東京 東京臨海広域防災公園\, 有明3-8-35\, 江東区\, 東京都\, 135-0063\, 日本
CATEGORIES:体験・練習会,東京
ORGANIZER;CN="%E6%97%A5%E6%9C%AC%E3%83%95%E3%83%AA%E3%83%BC%E3%82%B9%E3%82%B1%E3%83%BC%E3%83%88%E5%8D%94%E4%BC%9A":MAILTO:info@jflsa.jpn.org
END:VEVENT
BEGIN:VEVENT
DTSTART;TZID=Asia/Tokyo:20241026T100000
DTEND;TZID=Asia/Tokyo:20241026T160000
DTSTAMP:20260424T111724
CREATED:20241012T130503Z
LAST-MODIFIED:20241024T073141Z
UID:10269-1729936800-1729958400@jmkride.jp
SUMMARY:茨城 BIKE＆CAMP KANTOU24 フリースケート体験会
DESCRIPTION:ABOUT BIKE&CAMP\n\n\n\n\n今年のテーマは「輪行を目的とした旅へ」です。会場には自転車とキャンプに関するブランドやメーカー、アパレルのブースが集結。自転車キャンプをこれから始めようとか、興味がある人にぴったりのイベントです。眺めるだけなら入場無料。でもBIKE＆CAMPの最大の特徴は会場に泊まれることです。ライドイベントやチャリティオークションなどたくさんのコンテンツを用意しています。ぜひお友達やご家族と連れ立ってお越しください。 \nhttps://kantou24.bikeand.camp/
URL:https://jmkride.jp/event/241026ibaraki
LOCATION:茨城 霞ヶ浦総合公園 霞浦の湯となり駐車場\, 土浦市大岩田255\, 3000835\, 日本
CATEGORIES:体験・練習会,茨城
ATTACH;FMTTYPE=image/jpeg:https://jmkride.jp/wp-content/uploads/2024/10/241026bike.jpg
END:VEVENT
BEGIN:VEVENT
DTSTART;TZID=Asia/Tokyo:20241027T080000
DTEND;TZID=Asia/Tokyo:20241027T100000
DTSTAMP:20260424T111724
CREATED:20241012T125842Z
LAST-MODIFIED:20241012T125842Z
UID:10266-1730016000-1730023200@jmkride.jp
SUMMARY:愛知 フリースケート練習会
DESCRIPTION:誰でも参加できます。
URL:https://jmkride.jp/event/241027aichi
LOCATION:愛知 パークアリーナ小牧\, 間々原新田737\, 小牧市\, 愛知県\, 485-0016\, 日本
CATEGORIES:体験・練習会,愛知
END:VEVENT
BEGIN:VEVENT
DTSTART;TZID=Asia/Tokyo:20241027T100000
DTEND;TZID=Asia/Tokyo:20241027T160000
DTSTAMP:20260424T111724
CREATED:20241012T130603Z
LAST-MODIFIED:20241024T073121Z
UID:10272-1730023200-1730044800@jmkride.jp
SUMMARY:茨城 BIKE＆CAMP KANTOU24 フリースケート体験会
DESCRIPTION:ABOUT BIKE&CAMP\n\n\n\n\n今年のテーマは「輪行を目的とした旅へ」です。会場には自転車とキャンプに関するブランドやメーカー、アパレルのブースが集結。自転車キャンプをこれから始めようとか、興味がある人にぴったりのイベントです。眺めるだけなら入場無料。でもBIKE＆CAMPの最大の特徴は会場に泊まれることです。ライドイベントやチャリティオークションなどたくさんのコンテンツを用意しています。ぜひお友達やご家族と連れ立ってお越しください。 \nhttps://kantou24.bikeand.camp/
URL:https://jmkride.jp/event/241027ibaraki
LOCATION:茨城 霞ヶ浦総合公園 霞浦の湯となり駐車場\, 土浦市大岩田255\, 3000835\, 日本
CATEGORIES:体験・練習会,茨城
ATTACH;FMTTYPE=image/jpeg:https://jmkride.jp/wp-content/uploads/2024/10/241026bike.jpg
ORGANIZER;CN="JMKRIDE":MAILTO:info@jmkride.jp
END:VEVENT
END:VCALENDAR