BEGIN:VCALENDAR
VERSION:2.0
PRODID:-//フリースケート / JMKRIDE公式サイト - ECPv6.15.20//NONSGML v1.0//EN
CALSCALE:GREGORIAN
METHOD:PUBLISH
X-ORIGINAL-URL:https://jmkride.jp
X-WR-CALDESC:フリースケート / JMKRIDE公式サイト のイベント
REFRESH-INTERVAL;VALUE=DURATION:PT1H
X-Robots-Tag:noindex
X-PUBLISHED-TTL:PT1H
BEGIN:VTIMEZONE
TZID:Asia/Tokyo
BEGIN:STANDARD
TZOFFSETFROM:+0900
TZOFFSETTO:+0900
TZNAME:JST
DTSTART:20230101T000000
END:STANDARD
END:VTIMEZONE
BEGIN:VEVENT
DTSTART;TZID=Asia/Tokyo:20240803T160000
DTEND;TZID=Asia/Tokyo:20240803T200000
DTSTAMP:20260424T143004
CREATED:20240619T090401Z
LAST-MODIFIED:20240619T090401Z
UID:9909-1722700800-1722715200@jmkride.jp
SUMMARY:茨城 土浦キララまつり
DESCRIPTION:星と湖の祭典・土浦キララまつりは、歩行者天国となる土浦駅前通りを中心に多くの人でにぎわいます。安心・安全まちづくりパレードや七夕おどり、土浦新郷土民謡、山車の巡行、フリースケート体験会など盛りだくさんのイベントでまつり一色に染まります。
URL:https://jmkride.jp/event/240803ibaraki
LOCATION:茨城 国道125号 つくば銀行 本店前\, つくば銀行\, 土浦市中央2-11-7\, 茨城県\, 3000043\, 日本
CATEGORIES:体験・練習会,茨城
END:VEVENT
BEGIN:VEVENT
DTSTART;TZID=Asia/Tokyo:20240804T110000
DTEND;TZID=Asia/Tokyo:20240804T170000
DTSTAMP:20260424T143004
CREATED:20240902T130059Z
LAST-MODIFIED:20240902T130059Z
UID:10120-1722769200-1722790800@jmkride.jp
SUMMARY:大阪 近畿地区フリースケート試乗・練習会
DESCRIPTION:
URL:https://jmkride.jp/event/240804osaka
LOCATION:大阪 IBALAB＠広場\, 駅前４丁目４−８IBALAB＠広場（茨木市市民会館跡地）\, 茨木市駅前\, 大阪府\, 567-0888\, 日本
CATEGORIES:体験・練習会,大阪
END:VEVENT
BEGIN:VEVENT
DTSTART;TZID=Asia/Tokyo:20240804T160000
DTEND;TZID=Asia/Tokyo:20240804T200000
DTSTAMP:20260424T143004
CREATED:20240619T090519Z
LAST-MODIFIED:20240619T090519Z
UID:9913-1722787200-1722801600@jmkride.jp
SUMMARY:茨城 土浦キララまつり
DESCRIPTION:星と湖の祭典・土浦キララまつりは、歩行者天国となる土浦駅前通りを中心に多くの人でにぎわいます。安心・安全まちづくりパレードや七夕おどり、土浦新郷土民謡、山車の巡行、フリースケート体験会など盛りだくさんのイベントでまつり一色に染まります。
URL:https://jmkride.jp/event/240804ibaraki
LOCATION:茨城 国道125号 つくば銀行 本店前\, つくば銀行\, 土浦市中央2-11-7\, 茨城県\, 3000043\, 日本
CATEGORIES:体験・練習会,茨城
ORGANIZER;CN="JMKRIDE":MAILTO:info@jmkride.jp
END:VEVENT
BEGIN:VEVENT
DTSTART;TZID=Asia/Tokyo:20240811T080000
DTEND;TZID=Asia/Tokyo:20240811T100000
DTSTAMP:20260424T143004
CREATED:20240619T082856Z
LAST-MODIFIED:20240619T082856Z
UID:9886-1723363200-1723370400@jmkride.jp
SUMMARY:愛知 フリースケート練習会
DESCRIPTION:誰でも参加できます。
URL:https://jmkride.jp/event/240811aichi
LOCATION:愛知 パークアリーナ小牧\, 間々原新田737\, 小牧市\, 愛知県\, 485-0016\, 日本
CATEGORIES:体験・練習会,愛知
END:VEVENT
BEGIN:VEVENT
DTSTART;TZID=Asia/Tokyo:20240811T120000
DTEND;TZID=Asia/Tokyo:20240811T170000
DTSTAMP:20260424T143004
CREATED:20240902T130236Z
LAST-MODIFIED:20240902T130236Z
UID:10122-1723377600-1723395600@jmkride.jp
SUMMARY:埼玉練習会
DESCRIPTION:[内容]\nみんなでワイワイフリースケーティング！\n試乗用フリースケートも用意してるので興味ある方には試乗もしてもらいつつ、フリースケートの魅力も伝える練習会です！ \n[連絡先]\n‪https://instagram.com/linksfreeskatesteam \nこちらのLinksアカウントに直接DMをください。 \n埼玉練習会の場所を上尾市・さいたま水上公園へ変更しました。 \nフリースケートチームLinks HP\nhttps://links-20170504.amebaownd.com/
URL:https://jmkride.jp/event/240811saitama
LOCATION:埼玉 アイスアリーナ第2駐車場\, アイスアリーナ第2駐車場\, 上尾市\, 埼玉県\, Japan
CATEGORIES:体験・練習会,埼玉
END:VEVENT
BEGIN:VEVENT
DTSTART;TZID=Asia/Tokyo:20240825T080000
DTEND;TZID=Asia/Tokyo:20240825T100000
DTSTAMP:20260424T143004
CREATED:20240619T082947Z
LAST-MODIFIED:20240619T082947Z
UID:9888-1724572800-1724580000@jmkride.jp
SUMMARY:愛知 フリースケート練習会
DESCRIPTION:誰でも参加できます。
URL:https://jmkride.jp/event/240825aichi
LOCATION:愛知 パークアリーナ小牧\, 間々原新田737\, 小牧市\, 愛知県\, 485-0016\, 日本
CATEGORIES:体験・練習会,愛知
END:VEVENT
BEGIN:VEVENT
DTSTART;TZID=Asia/Tokyo:20240825T120000
DTEND;TZID=Asia/Tokyo:20240825T160000
DTSTAMP:20260424T143004
CREATED:20231110T090748Z
LAST-MODIFIED:20231110T090748Z
UID:9269-1724587200-1724601600@jmkride.jp
SUMMARY:東京 フリースケート体験会
DESCRIPTION:場所　:　東京臨海広域防災公園（東京都江東区）\n■車でのアクセス\n首都高速道路有明出口から出て、ゆりかもめ有明駅側。\n公園の有明口から奥のヘリポート付近。（※その時の状況により、公園内の別の場所に移動することがあります。） \n■電車でのアクセス\nりんかい線 国際展示場駅より徒歩4分。\nゆりかもめ 有明駅より徒歩2分。\n公園の有明口から奥のヘリポート。\n主催　:　日本フリースケート協会\n連絡先　:　メールアドレス　info@jflsa.jpn.org\n１） 雨天中止の連絡は、前日18時までに、協会ホームページに掲載します。\n２） 開催可否の判断は、イベント前日17時～18時の時点で『ウェザーニュース：お台場(外部リンク)』の情報を参照して、\nイベント当日の10時　～12時に降水予定がある場合、イベントを中止にします。 \n注意事項\n①公園に大勢の方が来訪されます。他の利用者が安心して通行出来るよう、ご協力をよろしくお願いします。\n②いかなる事故および怪我、病気なども自己責任とさせていただきますので、プロテクターなど保護具の装備および\n体調管理などは各自でお願いします。\n③試乗・滑走される方は、スタッフの指示に従って危険行為に及ばぬようご注意下さい。\n④飲食等のゴミは、各自持ち帰りでお願いします。\n⑤ お子様などをお連れになる場合は、お子様から目を離さないようお願いします。\nいかなるお子様の事故および怪我、病気なども保護者の責任とさせていただきます。\n⑥後日、練習会の様子をレポートとして作成し、公式サイト等にアップされます。\n参加申込み書に記入いただいた名前、写真・動画などを使用しますのでご了承ください。
URL:https://jmkride.jp/event/240825tokyo
LOCATION:東京 東京臨海広域防災公園\, 有明3-8-35\, 江東区\, 東京都\, 135-0063\, 日本
CATEGORIES:体験・練習会,東京
ATTACH;FMTTYPE=image/jpeg:https://jmkride.jp/wp-content/uploads/2023/11/240825tokyo.jpg
ORGANIZER;CN="%E6%97%A5%E6%9C%AC%E3%83%95%E3%83%AA%E3%83%BC%E3%82%B9%E3%82%B1%E3%83%BC%E3%83%88%E5%8D%94%E4%BC%9A":MAILTO:info@jflsa.jpn.org
END:VEVENT
END:VCALENDAR