BEGIN:VCALENDAR
VERSION:2.0
PRODID:-//フリースケート / JMKRIDE公式サイト - ECPv6.15.20//NONSGML v1.0//EN
CALSCALE:GREGORIAN
METHOD:PUBLISH
X-ORIGINAL-URL:https://jmkride.jp
X-WR-CALDESC:フリースケート / JMKRIDE公式サイト のイベント
REFRESH-INTERVAL;VALUE=DURATION:PT1H
X-Robots-Tag:noindex
X-PUBLISHED-TTL:PT1H
BEGIN:VTIMEZONE
TZID:Asia/Tokyo
BEGIN:STANDARD
TZOFFSETFROM:+0900
TZOFFSETTO:+0900
TZNAME:JST
DTSTART:20230101T000000
END:STANDARD
END:VTIMEZONE
BEGIN:VEVENT
DTSTART;TZID=Asia/Tokyo:20240707T110000
DTEND;TZID=Asia/Tokyo:20240707T170000
DTSTAMP:20260424T174837
CREATED:20240619T083949Z
LAST-MODIFIED:20240619T083949Z
UID:9893-1720350000-1720371600@jmkride.jp
SUMMARY:大阪 近畿地区フリースケート試乗・練習会
DESCRIPTION:
URL:https://jmkride.jp/event/240707osaka
LOCATION:大阪 歌島橋バスターミナル跡地\, 御幣島２丁目４−２０\, 大阪市西淀川区\, 大阪府\, 5550012\, 日本
CATEGORIES:体験・練習会,大阪
END:VEVENT
BEGIN:VEVENT
DTSTART;TZID=Asia/Tokyo:20240714T080000
DTEND;TZID=Asia/Tokyo:20240714T100000
DTSTAMP:20260424T174837
CREATED:20240619T082730Z
LAST-MODIFIED:20240619T082730Z
UID:9882-1720944000-1720951200@jmkride.jp
SUMMARY:愛知 フリースケート練習会
DESCRIPTION:誰でも参加できます。
URL:https://jmkride.jp/event/240714aichi
LOCATION:愛知 パークアリーナ小牧\, 間々原新田737\, 小牧市\, 愛知県\, 485-0016\, 日本
CATEGORIES:体験・練習会,愛知
END:VEVENT
BEGIN:VEVENT
DTSTART;TZID=Asia/Tokyo:20240715T120000
DTEND;TZID=Asia/Tokyo:20240715T170000
DTSTAMP:20260424T174837
CREATED:20240619T084655Z
LAST-MODIFIED:20240619T084655Z
UID:9905-1721044800-1721062800@jmkride.jp
SUMMARY:埼玉練習会
DESCRIPTION:[内容]\nみんなでワイワイフリースケーティング！\n試乗用フリースケートも用意してるので興味ある方には試乗もしてもらいつつ、フリースケートの魅力も伝える練習会です！ \n[連絡先]\n‪https://instagram.com/linksfreeskatesteam \nこちらのLinksアカウントに直接DMをください。 \n埼玉練習会の場所を上尾市・さいたま水上公園へ変更しました。 \nフリースケートチームLinks HP\nhttps://links-20170504.amebaownd.com/
URL:https://jmkride.jp/event/240715saitama
LOCATION:埼玉 さいたま水上公園\, 日の出2丁目\, 上尾市\, 埼玉県\, 362-0032\, 日本
CATEGORIES:体験・練習会,埼玉
END:VEVENT
BEGIN:VEVENT
DTSTART;TZID=Asia/Tokyo:20240728T080000
DTEND;TZID=Asia/Tokyo:20240728T100000
DTSTAMP:20260424T174837
CREATED:20240619T082811Z
LAST-MODIFIED:20240619T082811Z
UID:9884-1722153600-1722160800@jmkride.jp
SUMMARY:愛知 フリースケート練習会
DESCRIPTION:誰でも参加できます。
URL:https://jmkride.jp/event/240728aichi
LOCATION:愛知 パークアリーナ小牧\, 間々原新田737\, 小牧市\, 愛知県\, 485-0016\, 日本
CATEGORIES:体験・練習会,愛知
END:VEVENT
BEGIN:VEVENT
DTSTART;TZID=Asia/Tokyo:20240728T100000
DTEND;TZID=Asia/Tokyo:20240728T170000
DTSTAMP:20260424T174837
CREATED:20240619T085130Z
LAST-MODIFIED:20240619T085130Z
UID:9907-1722160800-1722186000@jmkride.jp
SUMMARY:茨城 つちうらであそぼ
DESCRIPTION:『 みんなが楽しみ・まなび・つながる場を 』\nそんな思いで土浦駅周辺の施設や店舗がエリアをむすび\n新たな周回イベントを開催します！\n知らなかったあそび場にもぜひ足を運んでみてください
URL:https://jmkride.jp/event/240728ibaraki
LOCATION:茨城 うらら大屋根広場\, 9-1 うらら大屋根広場\, 土浦市大和町\, 茨城県\, 3000036\, 日本
CATEGORIES:体験・練習会,茨城
END:VEVENT
END:VCALENDAR