BEGIN:VCALENDAR
VERSION:2.0
PRODID:-//フリースケート / JMKRIDE公式サイト - ECPv6.15.20//NONSGML v1.0//EN
CALSCALE:GREGORIAN
METHOD:PUBLISH
X-WR-CALNAME:フリースケート / JMKRIDE公式サイト
X-ORIGINAL-URL:https://jmkride.jp
X-WR-CALDESC:フリースケート / JMKRIDE公式サイト のイベント
REFRESH-INTERVAL;VALUE=DURATION:PT1H
X-Robots-Tag:noindex
X-PUBLISHED-TTL:PT1H
BEGIN:VTIMEZONE
TZID:Asia/Tokyo
BEGIN:STANDARD
TZOFFSETFROM:+0900
TZOFFSETTO:+0900
TZNAME:JST
DTSTART:20230101T000000
END:STANDARD
END:VTIMEZONE
BEGIN:VEVENT
DTSTART;TZID=Asia/Tokyo:20240503T100000
DTEND;TZID=Asia/Tokyo:20240505T210000
DTSTAMP:20260424T205409
CREATED:20240329T042841Z
LAST-MODIFIED:20240329T042841Z
UID:9633-1714730400-1714942800@jmkride.jp
SUMMARY:フリースケート世界大会2024
DESCRIPTION:フリースケート世界大会2024を開催します！\nオリンピックに新しい魅力をもたらしたスケートボード。その影響で、ローラースポーツは若い世代で大人気になっていて、どこのスケートパークでも多くの若者でにぎわっています。そんな人気のローラースポーツで「Made in 土浦」のJMKスケートを使った競技「フリースケート」を盛り上げたいと思っています。2023年に土浦市・うらら大屋根広場で開催されたフリースケート世界大会では、世界10の国と地域から６００名ほどが集まり、５種目を競い合いました。 \n世界トップライダーの滑りを間近で見るチャンス！見学だけでも楽しめますので、ぜひ参加してください！ \n・「土浦市」の後援により茨城県土浦市、うらら大屋根広場で開催します。 \n詳しくはコチラ\nhttps://jmkride.jp/2024jo\nhttps://jmkride.jp/fwc2024 (English)
URL:https://jmkride.jp/event/240503jo
LOCATION:茨城 うらら大屋根広場\, 9-1 うらら大屋根広場\, 土浦市大和町\, 茨城県\, 3000036\, 日本
CATEGORIES:大会,茨城
ATTACH;FMTTYPE=image/jpeg:https://jmkride.jp/wp-content/uploads/2023/12/240130ポスター.jpg
END:VEVENT
BEGIN:VEVENT
DTSTART;TZID=Asia/Tokyo:20240512T080000
DTEND;TZID=Asia/Tokyo:20240512T100000
DTSTAMP:20260424T205409
CREATED:20240619T084122Z
LAST-MODIFIED:20240619T084122Z
UID:9897-1715500800-1715508000@jmkride.jp
SUMMARY:愛知 フリースケート練習会
DESCRIPTION:誰でも参加できます。
URL:https://jmkride.jp/event/240512aichi
LOCATION:愛知 パークアリーナ小牧\, 間々原新田737\, 小牧市\, 愛知県\, 485-0016\, 日本
CATEGORIES:体験・練習会,愛知
END:VEVENT
BEGIN:VEVENT
DTSTART;TZID=Asia/Tokyo:20240512T110000
DTEND;TZID=Asia/Tokyo:20240512T170000
DTSTAMP:20260424T205409
CREATED:20240619T083153Z
LAST-MODIFIED:20240619T083153Z
UID:9875-1715511600-1715533200@jmkride.jp
SUMMARY:兵庫 近畿地区フリースケート試乗・練習会
DESCRIPTION:告知が直前になってしまって申し訳ありません。５月の近畿地区試乗会は１２日（日）に開催します。場所は久しぶりの甲子園浜。ただ、今のところお天気が怪しい・・・\n天候不良による中止の場合、当日ここに書き込みますので、ご確認ください。
URL:https://jmkride.jp/event/240512hyogo
LOCATION:兵庫 西宮市 甲子園浜海浜公園 今津浜地区\, 甲子園浜海浜公園西多目的広場（今津浜グラウンド）\, 西宮市今津真砂町\, 兵庫県\, 663-8224\, 日本
CATEGORIES:体験・練習会,兵庫
END:VEVENT
BEGIN:VEVENT
DTSTART;TZID=Asia/Tokyo:20240512T120000
DTEND;TZID=Asia/Tokyo:20240512T160000
DTSTAMP:20260424T205409
CREATED:20240619T084504Z
LAST-MODIFIED:20240619T084504Z
UID:9901-1715515200-1715529600@jmkride.jp
SUMMARY:埼玉練習会
DESCRIPTION:[内容]\nみんなでワイワイフリースケーティング！\n試乗用フリースケートも用意してるので興味ある方には試乗もしてもらいつつ、フリースケートの魅力も伝える練習会です！ \n[連絡先]\n‪https://instagram.com/linksfreeskatesteam \nこちらのLinksアカウントに直接DMをください。 \n埼玉練習会の場所を上尾市・さいたま水上公園へ変更しました。 \nフリースケートチームLinks HP\nhttps://links-20170504.amebaownd.com/
URL:https://jmkride.jp/event/240512saitama
LOCATION:埼玉 さいたま水上公園\, 日の出2丁目\, 上尾市\, 埼玉県\, 362-0032\, 日本
CATEGORIES:体験・練習会,埼玉
END:VEVENT
BEGIN:VEVENT
DTSTART;TZID=Asia/Tokyo:20240518T100000
DTEND;TZID=Asia/Tokyo:20240518T190000
DTSTAMP:20260424T205409
CREATED:20231110T092105Z
LAST-MODIFIED:20231110T092105Z
UID:9291-1716026400-1716058800@jmkride.jp
SUMMARY:東京 キメラゲームス フリースケート体験会
DESCRIPTION:スポーツ、カルチャー、音楽が融合した日本最大級の体験型エンターテインメントフェス CHIMERA GAMES！ \nHOME
URL:https://jmkride.jp/event/240518tokyo
LOCATION:東京 お台場青海臨時駐車場NOP区画\, お台場青海地区NO区画\, 江東区青海１丁目１\, 東京都\, 1350064\, 日本
CATEGORIES:体験・練習会,東京
ORGANIZER;CN="JMKRIDE":MAILTO:info@jmkride.jp
END:VEVENT
BEGIN:VEVENT
DTSTART;TZID=Asia/Tokyo:20240519T080000
DTEND;TZID=Asia/Tokyo:20240519T100000
DTSTAMP:20260424T205409
CREATED:20240619T082436Z
LAST-MODIFIED:20240619T082436Z
UID:9876-1716105600-1716112800@jmkride.jp
SUMMARY:愛知 フリースケート練習会
DESCRIPTION:誰でも参加できます。
URL:https://jmkride.jp/event/240519aichi
LOCATION:愛知 パークアリーナ小牧\, 間々原新田737\, 小牧市\, 愛知県\, 485-0016\, 日本
CATEGORIES:体験・練習会,愛知
END:VEVENT
BEGIN:VEVENT
DTSTART;TZID=Asia/Tokyo:20240519T100000
DTEND;TZID=Asia/Tokyo:20240519T190000
DTSTAMP:20260424T205409
CREATED:20231110T092158Z
LAST-MODIFIED:20231110T092158Z
UID:9293-1716112800-1716145200@jmkride.jp
SUMMARY:東京 キメラゲームス フリースケート体験会
DESCRIPTION:スポーツ、カルチャー、音楽が融合した日本最大級の体験型エンターテインメントフェス CHIMERA GAMES！ \nHOME
URL:https://jmkride.jp/event/240519tokyo
LOCATION:東京 お台場青海臨時駐車場NOP区画\, お台場青海地区NO区画\, 江東区青海１丁目１\, 東京都\, 1350064\, 日本
CATEGORIES:体験・練習会,東京
ORGANIZER;CN="JMKRIDE":MAILTO:info@jmkride.jp
END:VEVENT
BEGIN:VEVENT
DTSTART;TZID=Asia/Tokyo:20240526T120000
DTEND;TZID=Asia/Tokyo:20240526T160000
DTSTAMP:20260424T205409
CREATED:20231110T091012Z
LAST-MODIFIED:20231110T091012Z
UID:9275-1716724800-1716739200@jmkride.jp
SUMMARY:東京 フリースケート体験会
DESCRIPTION:場所　:　東京臨海広域防災公園（東京都江東区）\n■車でのアクセス\n首都高速道路有明出口から出て、ゆりかもめ有明駅側。\n公園の有明口から奥のヘリポート付近。（※その時の状況により、公園内の別の場所に移動することがあります。） \n■電車でのアクセス\nりんかい線 国際展示場駅より徒歩4分。\nゆりかもめ 有明駅より徒歩2分。\n公園の有明口から奥のヘリポート。\n主催　:　日本フリースケート協会\n連絡先　:　メールアドレス　info@jflsa.jpn.org\n１） 雨天中止の連絡は、前日18時までに、協会ホームページに掲載します。\n２） 開催可否の判断は、イベント前日17時～18時の時点で『ウェザーニュース：お台場(外部リンク)』の情報を参照して、\nイベント当日の10時　～12時に降水予定がある場合、イベントを中止にします。 \n注意事項\n①公園に大勢の方が来訪されます。他の利用者が安心して通行出来るよう、ご協力をよろしくお願いします。\n②いかなる事故および怪我、病気なども自己責任とさせていただきますので、プロテクターなど保護具の装備および\n体調管理などは各自でお願いします。\n③試乗・滑走される方は、スタッフの指示に従って危険行為に及ばぬようご注意下さい。\n④飲食等のゴミは、各自持ち帰りでお願いします。\n⑤ お子様などをお連れになる場合は、お子様から目を離さないようお願いします。\nいかなるお子様の事故および怪我、病気なども保護者の責任とさせていただきます。\n⑥後日、練習会の様子をレポートとして作成し、公式サイト等にアップされます。\n参加申込み書に記入いただいた名前、写真・動画などを使用しますのでご了承ください。
URL:https://jmkride.jp/event/240526tokyo
LOCATION:東京 東京臨海広域防災公園\, 有明3-8-35\, 江東区\, 東京都\, 135-0063\, 日本
CATEGORIES:体験・練習会,東京
ATTACH;FMTTYPE=image/jpeg:https://jmkride.jp/wp-content/uploads/2023/11/240526tokyo.jpg
ORGANIZER;CN="%E6%97%A5%E6%9C%AC%E3%83%95%E3%83%AA%E3%83%BC%E3%82%B9%E3%82%B1%E3%83%BC%E3%83%88%E5%8D%94%E4%BC%9A":MAILTO:info@jflsa.jpn.org
END:VEVENT
END:VCALENDAR