BEGIN:VCALENDAR
VERSION:2.0
PRODID:-//フリースケート / JMKRIDE公式サイト - ECPv6.15.20//NONSGML v1.0//EN
CALSCALE:GREGORIAN
METHOD:PUBLISH
X-WR-CALNAME:フリースケート / JMKRIDE公式サイト
X-ORIGINAL-URL:https://jmkride.jp
X-WR-CALDESC:フリースケート / JMKRIDE公式サイト のイベント
REFRESH-INTERVAL;VALUE=DURATION:PT1H
X-Robots-Tag:noindex
X-PUBLISHED-TTL:PT1H
BEGIN:VTIMEZONE
TZID:Asia/Tokyo
BEGIN:STANDARD
TZOFFSETFROM:+0900
TZOFFSETTO:+0900
TZNAME:JST
DTSTART:20240101T000000
END:STANDARD
END:VTIMEZONE
BEGIN:VEVENT
DTSTART;TZID=Asia/Tokyo:20251005T080000
DTEND;TZID=Asia/Tokyo:20251005T100000
DTSTAMP:20260423T192414
CREATED:20250904T085639Z
LAST-MODIFIED:20250904T085639Z
UID:11501-1759651200-1759658400@jmkride.jp
SUMMARY:愛知 フリースケート練習会
DESCRIPTION:誰でも参加できます。
URL:https://jmkride.jp/event/251005aichi
LOCATION:愛知 パークアリーナ小牧\, 間々原新田737\, 小牧市\, 愛知県\, 485-0016\, 日本
CATEGORIES:体験・練習会,愛知
END:VEVENT
BEGIN:VEVENT
DTSTART;TZID=Asia/Tokyo:20251012T110000
DTEND;TZID=Asia/Tokyo:20251012T170000
DTSTAMP:20260423T192414
CREATED:20251024T063624Z
LAST-MODIFIED:20251024T063624Z
UID:11663-1760266800-1760288400@jmkride.jp
SUMMARY:大阪 近畿地区フリースケート試乗・練習会
DESCRIPTION:９月も後半に入りましたが、まだまだ残暑が厳しいざんしょ・・・これで少し涼しくなりましたかね（笑）\n冗談はさておき、10月も試乗会を開催します。いつもは第一日曜日なんですが、今回は茨木市の他のイベントと重なり会場が抑えられなかったので、第二日曜日の12日となりました。日時、お間違いないようにご注意ください。\n三連休の中日、しかも運動会シーズン、忙しい方もいると思いますが、スポーツの秋を一緒に満喫しましょう。\nでは当日、会場でお待ちしております。
URL:https://jmkride.jp/event/251012osaka
LOCATION:大阪 IBALAB＠広場\, 駅前４丁目４−８IBALAB＠広場（茨木市市民会館跡地）\, 茨木市駅前\, 大阪府\, 567-0888\, 日本
CATEGORIES:体験・練習会,大阪
END:VEVENT
BEGIN:VEVENT
DTSTART;TZID=Asia/Tokyo:20251012T120000
DTEND;TZID=Asia/Tokyo:20251012T160000
DTSTAMP:20260423T192414
CREATED:20251024T063803Z
LAST-MODIFIED:20251024T063803Z
UID:11666-1760270400-1760284800@jmkride.jp
SUMMARY:茨城 都和南小学校フリースケート体験会
DESCRIPTION:内　容　：　初めての方から上級者の方まで誰でも参加OK！ \n主催者　：　フリースケートチーム Sixty-Four \n参加者用LINE　：　参加者はこちらから参加表明してください \n注　意　：\n・ いかなる事故および怪我、病気なども自己責任とさせていただきますので、\nプロテクターなど保護具の装備および体調管理などは各自でお願いします。\nまた、周囲にいる一般の方に注意して練習してください。 \n・ お子様などをお連れになる場合は、お子様から目を離さないようお願いします。\nいかなるお子様の事故および怪我、病気なども保護者の責任とさせていただきます。 \n・ 試乗用のフリースケートはこちらで用意しています。 \n・ 後日、練習会の様子をレポートとして作成し、公式サイト等にアップされます。\n参加申込み書に記入いただいた名前、写真・動画などを使用しますのでご了承ください。\n不都合がある場合は、事前にお知らせください。
URL:https://jmkride.jp/event/251012ibaraki
LOCATION:茨城 土浦市立都和南小学校\, 3090\, 土浦市常名\, 茨城県\, 300-0065\, 日本
CATEGORIES:体験・練習会,茨城
END:VEVENT
BEGIN:VEVENT
DTSTART;TZID=Asia/Tokyo:20251012T130000
DTEND;TZID=Asia/Tokyo:20251012T170000
DTSTAMP:20260423T192414
CREATED:20251024T063909Z
LAST-MODIFIED:20251024T063909Z
UID:11668-1760274000-1760288400@jmkride.jp
SUMMARY:埼玉練習会
DESCRIPTION:[内容]\nみんなでワイワイフリースケーティング！\n試乗用フリースケートも用意してるので興味ある方には試乗もしてもらいつつ、フリースケートの魅力も伝える練習会です！ \n[連絡先]\n‪https://instagram.com/linksfreeskatesteam \nこちらのLinksアカウントに直接DMをください。 \nフリースケートチームLinks HP\nhttps://links-20170504.amebaownd.com/
URL:https://jmkride.jp/event/251012saitama
LOCATION:埼玉 アイスアリーナ駐車場（大型車両）\, ４丁目 さいたま水上公園 駐車場(大型車両)\, 上尾市日の出\, 埼玉県\, 362-0032\, Japan
CATEGORIES:体験・練習会,埼玉
END:VEVENT
BEGIN:VEVENT
DTSTART;TZID=Asia/Tokyo:20251019T080000
DTEND;TZID=Asia/Tokyo:20251019T100000
DTSTAMP:20260423T192414
CREATED:20250904T085708Z
LAST-MODIFIED:20250904T085708Z
UID:11500-1760860800-1760868000@jmkride.jp
SUMMARY:愛知 フリースケート練習会
DESCRIPTION:誰でも参加できます。
URL:https://jmkride.jp/event/251019aichi
LOCATION:愛知 パークアリーナ小牧\, 間々原新田737\, 小牧市\, 愛知県\, 485-0016\, 日本
CATEGORIES:体験・練習会,愛知
END:VEVENT
BEGIN:VEVENT
DTSTART;TZID=Asia/Tokyo:20251019T093000
DTEND;TZID=Asia/Tokyo:20251019T163000
DTSTAMP:20260423T192414
CREATED:20251024T064020Z
LAST-MODIFIED:20251024T064020Z
UID:11670-1760866200-1760891400@jmkride.jp
SUMMARY:千葉 ストリートスポーツキャンプ
DESCRIPTION:なかなか楽しめる場所のないストリートスポーツのできる場所として、月一回、定期的に愛好者が集って、千葉市協力のもと実施をしています。\nストリートスポーツを楽しみながら、体験会やレッスンなどを通して技術の向上とルールやマナーといった知識を共有して、ストリートスポーツの認知を図って行きたいと思います。そして、SSCがストリートスポーツを通した世代を超えたコミュニティの広がる場にしていきたいと思います。\n参加自由！、ストリートな方、挑戦したい方、活動に協力頂ける方、皆でエンジョイしましょう！！　ファミリーでの参加も多いです。年齢・性別関係なし、楽しいからやる！ が基本です^^/
URL:https://jmkride.jp/event/251019chiba
LOCATION:千葉 千葉市蘇我スポーツ公園 フクダ電子ボードエリア\, 川崎町 フクダ電子ボードエリア\, 千葉市中央区\, 260-0835\, 日本
CATEGORIES:体験・練習会,千葉
END:VEVENT
BEGIN:VEVENT
DTSTART;TZID=Asia/Tokyo:20251026T120000
DTEND;TZID=Asia/Tokyo:20251026T160000
DTSTAMP:20260423T192414
CREATED:20250702T052934Z
LAST-MODIFIED:20250702T052934Z
UID:11245-1761480000-1761494400@jmkride.jp
SUMMARY:東京 フリースケート体験会
DESCRIPTION:場所　:　東京臨海広域防災公園（東京都江東区）\n■車でのアクセス\n首都高速道路有明出口から出て、ゆりかもめ有明駅側。\n公園の有明口から奥のヘリポート付近。（※その時の状況により、公園内の別の場所に移動することがあります。） \n■電車でのアクセス\nりんかい線 国際展示場駅より徒歩4分。\nゆりかもめ 有明駅より徒歩2分。\n公園の有明口から奥のヘリポート。\n主催　:　日本フリースケート協会\n連絡先　:　メールアドレス　info@jflsa.jpn.org\n１） 雨天中止の連絡は、前日18時までに、協会ホームページに掲載します。\n２） 開催可否の判断は、イベント前日17時～18時の時点で『ウェザーニュース：お台場(外部リンク)』の情報を参照して、\nイベント当日の10時　～12時に降水予定がある場合、イベントを中止にします。 \n注意事項\n①公園に大勢の方が来訪されます。他の利用者が安心して通行出来るよう、ご協力をよろしくお願いします。\n②いかなる事故および怪我、病気なども自己責任とさせていただきますので、プロテクターなど保護具の装備および\n体調管理などは各自でお願いします。\n③試乗・滑走される方は、スタッフの指示に従って危険行為に及ばぬようご注意下さい。\n④飲食等のゴミは、各自持ち帰りでお願いします。\n⑤ お子様などをお連れになる場合は、お子様から目を離さないようお願いします。\nいかなるお子様の事故および怪我、病気なども保護者の責任とさせていただきます。\n⑥後日、練習会の様子をレポートとして作成し、公式サイト等にアップされます。\n参加申込み書に記入いただいた名前、写真・動画などを使用しますのでご了承ください。
URL:https://jmkride.jp/event/251026tokyo
LOCATION:東京 東京臨海広域防災公園\, 有明3-8-35\, 江東区\, 東京都\, 135-0063\, 日本
CATEGORIES:体験・練習会,茨城
ORGANIZER;CN="%E6%97%A5%E6%9C%AC%E3%83%95%E3%83%AA%E3%83%BC%E3%82%B9%E3%82%B1%E3%83%BC%E3%83%88%E5%8D%94%E4%BC%9A":MAILTO:info@jflsa.jpn.org
END:VEVENT
BEGIN:VEVENT
DTSTART;TZID=Asia/Tokyo:20251101T140000
DTEND;TZID=Asia/Tokyo:20251101T200000
DTSTAMP:20260423T192414
CREATED:20250725T071621Z
LAST-MODIFIED:20250725T071621Z
UID:11386-1762005600-1762027200@jmkride.jp
SUMMARY:茨城 土浦全国花火競技大会 フリースケート練習会
DESCRIPTION:土浦の花火を見ながらメイドイン土浦のJMKスケートでフリースケートを楽しみましょう！
URL:https://jmkride.jp/event/251101ibaraki
LOCATION:茨城 JMKパーク\, JMKパーク\, 土浦市\, 茨城県\, 日本
CATEGORIES:体験・練習会,茨城
END:VEVENT
BEGIN:VEVENT
DTSTART;TZID=Asia/Tokyo:20251102T080000
DTEND;TZID=Asia/Tokyo:20251102T100000
DTSTAMP:20260423T192414
CREATED:20251024T064155Z
LAST-MODIFIED:20251024T064155Z
UID:11672-1762070400-1762077600@jmkride.jp
SUMMARY:愛知 フリースケート練習会
DESCRIPTION:誰でも参加できます。
URL:https://jmkride.jp/event/251102aichi
LOCATION:愛知 パークアリーナ小牧\, 間々原新田737\, 小牧市\, 愛知県\, 485-0016\, 日本
CATEGORIES:体験・練習会,愛知
END:VEVENT
BEGIN:VEVENT
DTSTART;TZID=Asia/Tokyo:20251102T110000
DTEND;TZID=Asia/Tokyo:20251102T170000
DTSTAMP:20260423T192414
CREATED:20260115T125803Z
LAST-MODIFIED:20260115T125803Z
UID:11984-1762081200-1762102800@jmkride.jp
SUMMARY:大阪 近畿地区フリースケート試乗・練習会
DESCRIPTION:こんにちは。ついこの間までＴシャツで過ごせたのに、急に朝夕冷え込むようになって、戸惑っているピエトロです。気温の急激な変化に体調を崩すかもしれませんので、皆さんお気を付けください。\nさて、遅くなりましたが１１月の試乗会の告知です。もう次の日曜日になるのですが、１１月２日に開催します。場所は、９月に続いて２度目になる【服部緑地 西中央広場】です。９月にお邪魔した際の感想としては、木陰もあり風の通りもよく、過ごしやすかったのですが、、、最近の気温を考えると少し涼しすぎるかも。そこらへんは各自で対策をお願いします。\n直近になっての告知で申し訳ないですが、お時間ある方、ぜひぜひご参加ください。
URL:https://jmkride.jp/event/251102osaka
LOCATION:大阪 IBALAB＠広場\, 駅前４丁目４−８IBALAB＠広場（茨木市市民会館跡地）\, 茨木市駅前\, 大阪府\, 567-0888\, 日本
CATEGORIES:体験・練習会,大阪
END:VEVENT
BEGIN:VEVENT
DTSTART;TZID=Asia/Tokyo:20251102T110000
DTEND;TZID=Asia/Tokyo:20251102T200000
DTSTAMP:20260423T192414
CREATED:20250725T071852Z
LAST-MODIFIED:20250725T072331Z
UID:11389-1762081200-1762113600@jmkride.jp
SUMMARY:茨城 64祭り（BBQ&ランプ）
DESCRIPTION:※雨天はBBQのみ。 \nメンバーじゃなくてもOK、誰でも参加できます！（64祭り専用LINEオープンチャットに参加必須）\nランプだけの練習会です。（平地はありません） \n※参加希望の場合は、事前に64祭り専用LINEオープンチャットに参加してください。 \n※バーベキューをしながらランプセッション！\n参加費用は500円。そしてBBQ用の料理or食材を持ってきてください。飲み物は各自で用意。\n※ランプなどが初めてでもチャレンジしたい人にはレクチャーしますので、お気軽に参加ください！\n※フリースケートチーム【Sixty-Four】\nhttp://Sixty-Four.com
URL:https://jmkride.jp/event/251102ibaraki
LOCATION:茨城 JMKパーク\, JMKパーク\, 土浦市\, 茨城県\, 日本
CATEGORIES:体験・練習会,茨城
END:VEVENT
BEGIN:VEVENT
DTSTART;TZID=Asia/Tokyo:20251109T120000
DTEND;TZID=Asia/Tokyo:20251109T160000
DTSTAMP:20260423T192414
CREATED:20251024T071018Z
LAST-MODIFIED:20251024T071421Z
UID:11689-1762689600-1762704000@jmkride.jp
SUMMARY:茨城 都和南小学校フリースケート体験会
DESCRIPTION:内　容　：　初めての方から上級者の方まで誰でも参加OK！ \n主催者　：　フリースケートチーム Sixty-Four \n参加者用LINE　：　参加者はこちらから参加表明してください \n注　意　：\n・ いかなる事故および怪我、病気なども自己責任とさせていただきますので、\nプロテクターなど保護具の装備および体調管理などは各自でお願いします。\nまた、周囲にいる一般の方に注意して練習してください。 \n・ お子様などをお連れになる場合は、お子様から目を離さないようお願いします。\nいかなるお子様の事故および怪我、病気なども保護者の責任とさせていただきます。 \n・ 試乗用のフリースケートはこちらで用意しています。 \n・ 後日、練習会の様子をレポートとして作成し、公式サイト等にアップされます。\n参加申込み書に記入いただいた名前、写真・動画などを使用しますのでご了承ください。\n不都合がある場合は、事前にお知らせください。
URL:https://jmkride.jp/event/251109ibaraki
LOCATION:茨城 土浦市立都和南小学校\, 3090\, 土浦市常名\, 茨城県\, 300-0065\, 日本
CATEGORIES:体験・練習会,茨城
END:VEVENT
BEGIN:VEVENT
DTSTART;TZID=Asia/Tokyo:20251109T130000
DTEND;TZID=Asia/Tokyo:20251109T170000
DTSTAMP:20260423T192414
CREATED:20251024T064738Z
LAST-MODIFIED:20251024T064738Z
UID:11674-1762693200-1762707600@jmkride.jp
SUMMARY:埼玉練習会
DESCRIPTION:[内容]\nみんなでワイワイフリースケーティング！\n試乗用フリースケートも用意してるので興味ある方には試乗もしてもらいつつ、フリースケートの魅力も伝える練習会です！ \n[連絡先]\n‪https://instagram.com/linksfreeskatesteam \nこちらのLinksアカウントに直接DMをください。 \nフリースケートチームLinks HP\nhttps://links-20170504.amebaownd.com/
URL:https://jmkride.jp/event/251109saitama
LOCATION:埼玉 アイスアリーナ駐車場（大型車両）\, ４丁目 さいたま水上公園 駐車場(大型車両)\, 上尾市日の出\, 埼玉県\, 362-0032\, Japan
CATEGORIES:体験・練習会,埼玉
END:VEVENT
BEGIN:VEVENT
DTSTART;TZID=Asia/Tokyo:20251116T080000
DTEND;TZID=Asia/Tokyo:20251116T100000
DTSTAMP:20260423T192414
CREATED:20251024T064836Z
LAST-MODIFIED:20251024T064836Z
UID:11676-1763280000-1763287200@jmkride.jp
SUMMARY:愛知 フリースケート練習会
DESCRIPTION:誰でも参加できます。
URL:https://jmkride.jp/event/251116aichi
LOCATION:愛知 パークアリーナ小牧\, 間々原新田737\, 小牧市\, 愛知県\, 485-0016\, 日本
CATEGORIES:体験・練習会,愛知
END:VEVENT
BEGIN:VEVENT
DTSTART;TZID=Asia/Tokyo:20251116T093000
DTEND;TZID=Asia/Tokyo:20251116T163000
DTSTAMP:20260423T192414
CREATED:20260115T130707Z
LAST-MODIFIED:20260115T130707Z
UID:11994-1763285400-1763310600@jmkride.jp
SUMMARY:千葉 ストリートスポーツキャンプ
DESCRIPTION:なかなか楽しめる場所のないストリートスポーツのできる場所として、月一回、定期的に愛好者が集って、千葉市協力のもと実施をしています。\nストリートスポーツを楽しみながら、体験会やレッスンなどを通して技術の向上とルールやマナーといった知識を共有して、ストリートスポーツの認知を図って行きたいと思います。そして、SSCがストリートスポーツを通した世代を超えたコミュニティの広がる場にしていきたいと思います。\n参加自由！、ストリートな方、挑戦したい方、活動に協力頂ける方、皆でエンジョイしましょう！！　ファミリーでの参加も多いです。年齢・性別関係なし、楽しいからやる！ が基本です^^/
URL:https://jmkride.jp/event/251116chiba
LOCATION:千葉 千葉市蘇我スポーツ公園 フクダ電子ボードエリア\, 川崎町 フクダ電子ボードエリア\, 千葉市中央区\, 260-0835\, 日本
CATEGORIES:体験・練習会,千葉
END:VEVENT
BEGIN:VEVENT
DTSTART;TZID=Asia/Tokyo:20251116T120000
DTEND;TZID=Asia/Tokyo:20251116T160000
DTSTAMP:20260423T192414
CREATED:20251024T065034Z
LAST-MODIFIED:20251024T065034Z
UID:11678-1763294400-1763308800@jmkride.jp
SUMMARY:東京 フリースケート体験会
DESCRIPTION:場所　:　東京臨海広域防災公園（東京都江東区）\n■車でのアクセス\n首都高速道路有明出口から出て、ゆりかもめ有明駅側。\n公園の有明口から奥のヘリポート付近。（※その時の状況により、公園内の別の場所に移動することがあります。） \n■電車でのアクセス\nりんかい線 国際展示場駅より徒歩4分。\nゆりかもめ 有明駅より徒歩2分。\n公園の有明口から奥のヘリポート。\n主催　:　日本フリースケート協会\n連絡先　:　メールアドレス　info@jflsa.jpn.org\n１） 雨天中止の連絡は、前日18時までに、協会ホームページに掲載します。\n２） 開催可否の判断は、イベント前日17時～18時の時点で『ウェザーニュース：お台場(外部リンク)』の情報を参照して、\nイベント当日の10時　～12時に降水予定がある場合、イベントを中止にします。 \n注意事項\n①公園に大勢の方が来訪されます。他の利用者が安心して通行出来るよう、ご協力をよろしくお願いします。\n②いかなる事故および怪我、病気なども自己責任とさせていただきますので、プロテクターなど保護具の装備および\n体調管理などは各自でお願いします。\n③試乗・滑走される方は、スタッフの指示に従って危険行為に及ばぬようご注意下さい。\n④飲食等のゴミは、各自持ち帰りでお願いします。\n⑤ お子様などをお連れになる場合は、お子様から目を離さないようお願いします。\nいかなるお子様の事故および怪我、病気なども保護者の責任とさせていただきます。\n⑥後日、練習会の様子をレポートとして作成し、公式サイト等にアップされます。\n参加申込み書に記入いただいた名前、写真・動画などを使用しますのでご了承ください。
URL:https://jmkride.jp/event/251116tokyo
LOCATION:東京 東京臨海広域防災公園\, 有明3-8-35\, 江東区\, 東京都\, 135-0063\, 日本
CATEGORIES:体験・練習会,東京
ORGANIZER;CN="%E6%97%A5%E6%9C%AC%E3%83%95%E3%83%AA%E3%83%BC%E3%82%B9%E3%82%B1%E3%83%BC%E3%83%88%E5%8D%94%E4%BC%9A":MAILTO:info@jflsa.jpn.org
END:VEVENT
BEGIN:VEVENT
DTSTART;TZID=Asia/Tokyo:20251122T100000
DTEND;TZID=Asia/Tokyo:20251124T190000
DTSTAMP:20260423T192414
CREATED:20251024T070102Z
LAST-MODIFIED:20251024T070158Z
UID:11680-1763805600-1764010800@jmkride.jp
SUMMARY:広島 全国ライダーズセッション2025
DESCRIPTION:フリースケートライダーのによるフリースケートライダーのためのセッションイベント！全国ライダーズセッションを広島因島で開催します！ \n滑るだけでなく、契約ライダーによるパフォーマンス、ちょっとした競技があり、競技には賞品も出ちゃいます。 \nフリースケートのイベントを楽しみたい方、フリースケート仲間との交流を楽しみたい方はぜひ因島のライダーズセッションへお越しください。
URL:https://jmkride.jp/event/251122hiroshima
LOCATION:広島 土生公民館 多目的広場\, 宇和部区１７２５\, 尾道市因島土生町\, 広島県\, 722-2323\, Japan
CATEGORIES:広島
END:VEVENT
BEGIN:VEVENT
DTSTART;TZID=Asia/Tokyo:20251130T100000
DTEND;TZID=Asia/Tokyo:20251130T160000
DTSTAMP:20260423T192414
CREATED:20251024T070732Z
LAST-MODIFIED:20260115T124452Z
UID:11685-1764496800-1764518400@jmkride.jp
SUMMARY:いばらきK1ライド2025 フリースケート体験会
DESCRIPTION:内　容　：　初めての方から上級者の方まで誰でも参加OK！ \n主催者　：　Kyoki　問い合わせ\n・ 携帯 ： 070-8582-2378（練習会当日専用） \n注　意　：\n・ いかなる事故および怪我、病気なども自己責任とさせていただきますので、\nプロテクターなど保護具の装備および体調管理などは各自でお願いします。\nまた、周囲にいる一般の方に注意して練習してください。 \n・ お子様などをお連れになる場合は、お子様から目を離さないようお願いします。\nいかなるお子様の事故および怪我、病気なども保護者の責任とさせていただきます。 \n・ 体験用のフリースケートはこちらで用意しています。 \n・ 後日、練習会の様子をレポートとして作成し、公式サイト等にアップされます。\n参加申込み書に記入いただいた名前、写真・動画などを使用しますのでご了承ください。\n不都合がある場合は、事前にお知らせください。
URL:https://jmkride.jp/event/251130ibaraki
LOCATION:茨城 ヒューナックアクアパーク水郷\, 大岩田６０１ヒューナックアクアパーク水郷\, 土浦市\, 茨城県\, 300-0835\, Japan
CATEGORIES:体験・練習会,茨城
END:VEVENT
BEGIN:VEVENT
DTSTART;TZID=Asia/Tokyo:20251207T080000
DTEND;TZID=Asia/Tokyo:20251207T100000
DTSTAMP:20260423T192414
CREATED:20260115T124606Z
LAST-MODIFIED:20260115T125116Z
UID:11969-1765094400-1765101600@jmkride.jp
SUMMARY:愛知 フリースケート練習会
DESCRIPTION:誰でも参加できます。
URL:https://jmkride.jp/event/251207aichi
LOCATION:愛知 パークアリーナ小牧\, 間々原新田737\, 小牧市\, 愛知県\, 485-0016\, 日本
CATEGORIES:体験・練習会,愛知
END:VEVENT
BEGIN:VEVENT
DTSTART;TZID=Asia/Tokyo:20251214T110000
DTEND;TZID=Asia/Tokyo:20251214T170000
DTSTAMP:20260423T192414
CREATED:20260115T125916Z
LAST-MODIFIED:20260115T125916Z
UID:11986-1765710000-1765731600@jmkride.jp
SUMMARY:大阪 近畿地区フリースケート試乗・練習会
DESCRIPTION:日に日に冬の足音が近づいてきてますが、皆さんいかがお過ごしでしょうか？\nさて、12月の試乗会ですが、第一日曜日は先日告知した「西淀川区こどもカーニバル」に参加するため中止・・・ではないです。第二日曜日、12/14 に開催します。場所は偶数月恒例の、茨木市はIBALAB@広場。年内最後の試乗会となりますので、ぜひぜひご参加ください。\n間違いなく「冬」ですので、寒さ対策をしっかりして、楽しく怪我無く滑りましょう。\nでは当日、IBALAB@広場にてお待ちしております。
URL:https://jmkride.jp/event/251214osaka
LOCATION:大阪 IBALAB＠広場\, 駅前４丁目４−８IBALAB＠広場（茨木市市民会館跡地）\, 茨木市駅前\, 大阪府\, 567-0888\, 日本
CATEGORIES:体験・練習会,大阪
END:VEVENT
BEGIN:VEVENT
DTSTART;TZID=Asia/Tokyo:20251214T120000
DTEND;TZID=Asia/Tokyo:20251214T160000
DTSTAMP:20260423T192414
CREATED:20251024T071353Z
LAST-MODIFIED:20251024T071353Z
UID:11690-1765713600-1765728000@jmkride.jp
SUMMARY:茨城 都和南小学校フリースケート体験会
DESCRIPTION:内　容　：　初めての方から上級者の方まで誰でも参加OK！ \n主催者　：　フリースケートチーム Sixty-Four \n参加者用LINE　：　参加者はこちらから参加表明してください \n注　意　：\n・ いかなる事故および怪我、病気なども自己責任とさせていただきますので、\nプロテクターなど保護具の装備および体調管理などは各自でお願いします。\nまた、周囲にいる一般の方に注意して練習してください。 \n・ お子様などをお連れになる場合は、お子様から目を離さないようお願いします。\nいかなるお子様の事故および怪我、病気なども保護者の責任とさせていただきます。 \n・ 試乗用のフリースケートはこちらで用意しています。 \n・ 後日、練習会の様子をレポートとして作成し、公式サイト等にアップされます。\n参加申込み書に記入いただいた名前、写真・動画などを使用しますのでご了承ください。\n不都合がある場合は、事前にお知らせください。
URL:https://jmkride.jp/event/251214ibaraki
LOCATION:茨城 土浦市立都和南小学校\, 3090\, 土浦市常名\, 茨城県\, 300-0065\, 日本
CATEGORIES:体験・練習会,茨城
END:VEVENT
BEGIN:VEVENT
DTSTART;TZID=Asia/Tokyo:20251214T130000
DTEND;TZID=Asia/Tokyo:20251214T170000
DTSTAMP:20260423T192414
CREATED:20260115T124744Z
LAST-MODIFIED:20260115T130512Z
UID:11971-1765717200-1765731600@jmkride.jp
SUMMARY:埼玉練習会
DESCRIPTION:[内容]\nみんなでワイワイフリースケーティング！\n試乗用フリースケートも用意してるので興味ある方には試乗もしてもらいつつ、フリースケートの魅力も伝える練習会です！ \n[連絡先]\n‪https://instagram.com/linksfreeskatesteam \nこちらのLinksアカウントに直接DMをください。 \nフリースケートチームLinks HP\nhttps://links-20170504.amebaownd.com/
URL:https://jmkride.jp/event/251214saitama
LOCATION:埼玉 アイスアリーナ駐車場（大型車両）\, ４丁目 さいたま水上公園 駐車場(大型車両)\, 上尾市日の出\, 埼玉県\, 362-0032\, Japan
CATEGORIES:体験・練習会,埼玉
END:VEVENT
BEGIN:VEVENT
DTSTART;TZID=Asia/Tokyo:20251221T080000
DTEND;TZID=Asia/Tokyo:20251221T100000
DTSTAMP:20260423T192414
CREATED:20260115T124845Z
LAST-MODIFIED:20260115T125034Z
UID:11973-1766304000-1766311200@jmkride.jp
SUMMARY:愛知 フリースケート練習会
DESCRIPTION:誰でも参加できます。
URL:https://jmkride.jp/event/251221aichi
LOCATION:愛知 パークアリーナ小牧\, 間々原新田737\, 小牧市\, 愛知県\, 485-0016\, 日本
CATEGORIES:体験・練習会,愛知
END:VEVENT
BEGIN:VEVENT
DTSTART;TZID=Asia/Tokyo:20251221T090000
DTEND;TZID=Asia/Tokyo:20251221T190000
DTSTAMP:20260423T192414
CREATED:20260115T131146Z
LAST-MODIFIED:20260115T131146Z
UID:12000-1766307600-1766343600@jmkride.jp
SUMMARY:広島 チーム「零」クリスマス練習会
DESCRIPTION:お近くの方はぜひぜひお越しください！
URL:https://jmkride.jp/event/251221hiroshima
LOCATION:広島 土生公民館 多目的広場\, 宇和部区１７２５\, 尾道市因島土生町\, 広島県\, 722-2323\, Japan
CATEGORIES:体験・練習会,広島
END:VEVENT
BEGIN:VEVENT
DTSTART;TZID=Asia/Tokyo:20251221T093000
DTEND;TZID=Asia/Tokyo:20251221T163000
DTSTAMP:20260423T192414
CREATED:20260115T130758Z
LAST-MODIFIED:20260115T130758Z
UID:11996-1766309400-1766334600@jmkride.jp
SUMMARY:千葉 ストリートスポーツキャンプ
DESCRIPTION:なかなか楽しめる場所のないストリートスポーツのできる場所として、月一回、定期的に愛好者が集って、千葉市協力のもと実施をしています。\nストリートスポーツを楽しみながら、体験会やレッスンなどを通して技術の向上とルールやマナーといった知識を共有して、ストリートスポーツの認知を図って行きたいと思います。そして、SSCがストリートスポーツを通した世代を超えたコミュニティの広がる場にしていきたいと思います。\n参加自由！、ストリートな方、挑戦したい方、活動に協力頂ける方、皆でエンジョイしましょう！！　ファミリーでの参加も多いです。年齢・性別関係なし、楽しいからやる！ が基本です^^/
URL:https://jmkride.jp/event/251221chiba
LOCATION:千葉 千葉市蘇我スポーツ公園 フクダ電子ボードエリア\, 川崎町 フクダ電子ボードエリア\, 千葉市中央区\, 260-0835\, 日本
CATEGORIES:体験・練習会,千葉
END:VEVENT
BEGIN:VEVENT
DTSTART;TZID=Asia/Tokyo:20251221T120000
DTEND;TZID=Asia/Tokyo:20251221T160000
DTSTAMP:20260423T192414
CREATED:20250702T053340Z
LAST-MODIFIED:20251024T065142Z
UID:11249-1766318400-1766332800@jmkride.jp
SUMMARY:東京 フリースケート体験会
DESCRIPTION:場所　:　東京臨海広域防災公園（東京都江東区）\n■車でのアクセス\n首都高速道路有明出口から出て、ゆりかもめ有明駅側。\n公園の有明口から奥のヘリポート付近。（※その時の状況により、公園内の別の場所に移動することがあります。） \n■電車でのアクセス\nりんかい線 国際展示場駅より徒歩4分。\nゆりかもめ 有明駅より徒歩2分。\n公園の有明口から奥のヘリポート。\n主催　:　日本フリースケート協会\n連絡先　:　メールアドレス　info@jflsa.jpn.org\n１） 雨天中止の連絡は、前日18時までに、協会ホームページに掲載します。\n２） 開催可否の判断は、イベント前日17時～18時の時点で『ウェザーニュース：お台場(外部リンク)』の情報を参照して、\nイベント当日の10時　～12時に降水予定がある場合、イベントを中止にします。 \n注意事項\n①公園に大勢の方が来訪されます。他の利用者が安心して通行出来るよう、ご協力をよろしくお願いします。\n②いかなる事故および怪我、病気なども自己責任とさせていただきますので、プロテクターなど保護具の装備および\n体調管理などは各自でお願いします。\n③試乗・滑走される方は、スタッフの指示に従って危険行為に及ばぬようご注意下さい。\n④飲食等のゴミは、各自持ち帰りでお願いします。\n⑤ お子様などをお連れになる場合は、お子様から目を離さないようお願いします。\nいかなるお子様の事故および怪我、病気なども保護者の責任とさせていただきます。\n⑥後日、練習会の様子をレポートとして作成し、公式サイト等にアップされます。\n参加申込み書に記入いただいた名前、写真・動画などを使用しますのでご了承ください。
URL:https://jmkride.jp/event/251221tokyo
LOCATION:東京 東京臨海広域防災公園\, 有明3-8-35\, 江東区\, 東京都\, 135-0063\, 日本
CATEGORIES:体験・練習会,茨城
ORGANIZER;CN="%E6%97%A5%E6%9C%AC%E3%83%95%E3%83%AA%E3%83%BC%E3%82%B9%E3%82%B1%E3%83%BC%E3%83%88%E5%8D%94%E4%BC%9A":MAILTO:info@jflsa.jpn.org
END:VEVENT
BEGIN:VEVENT
DTSTART;TZID=Asia/Tokyo:20260103T090000
DTEND;TZID=Asia/Tokyo:20260103T200000
DTSTAMP:20260423T192414
CREATED:20260115T130356Z
LAST-MODIFIED:20260115T130356Z
UID:11992-1767430800-1767470400@jmkride.jp
SUMMARY:茨城 64餅つき大会
DESCRIPTION:毎年恒例の餅つき大会、今年もやります！\n準備から参加できる人は9時にJMKパーク集合。\n餅つきし始めるのは11時予定です。\nフリースケート練習、体験もできます！
URL:https://jmkride.jp/event/260103ibaraki
LOCATION:茨城 JMKパーク\, JMKパーク\, 土浦市\, 茨城県\, 日本
CATEGORIES:体験・練習会,茨城
END:VEVENT
BEGIN:VEVENT
DTSTART;TZID=Asia/Tokyo:20260104T080000
DTEND;TZID=Asia/Tokyo:20260104T100000
DTSTAMP:20260423T192414
CREATED:20260115T125215Z
LAST-MODIFIED:20260115T125215Z
UID:11978-1767513600-1767520800@jmkride.jp
SUMMARY:愛知 フリースケート練習会
DESCRIPTION:誰でも参加できます。
URL:https://jmkride.jp/event/260104aichi
LOCATION:愛知 パークアリーナ小牧\, 間々原新田737\, 小牧市\, 愛知県\, 485-0016\, 日本
CATEGORIES:体験・練習会,愛知
END:VEVENT
BEGIN:VEVENT
DTSTART;TZID=Asia/Tokyo:20260111T110000
DTEND;TZID=Asia/Tokyo:20260111T170000
DTSTAMP:20260423T192414
CREATED:20260115T130055Z
LAST-MODIFIED:20260115T130055Z
UID:11988-1768129200-1768150800@jmkride.jp
SUMMARY:大阪 近畿地区フリースケート試乗・練習会
DESCRIPTION:今年もあと10日となりましたが、皆さんいかがお過ごしでしょうか？私、ピエトロは年納めの準備などナ～ンにもしておりません。少しずつ大掃除なんて、なんですかそれ状態です。しか～し、そんな状態でも年内にやっておかないといけないことがあるんです、そう次回の試乗会の告知です。\n次回は、もう来年2026年ですね。年明け１発目は11日（日）に開催します。場所は滑り初め恒例の甲子園浜海浜公園、フリスケ兵庫の聖地です。 \n海辺の公園なので、海風が強くかなり寒いと思いますので、参加される方は寒さ対策をしっかりとしてくださいね。あと、いつもと違って第２日曜開催なのでお間違いのないように。\nでは当日、現地でお待ちしております。\n来年のことを言うと鬼が笑うといいますが、これから年明けまで、鼻から牛乳出るくらい笑ってもらいましょう。
URL:https://jmkride.jp/event/260111osaka
LOCATION:大阪 IBALAB＠広場\, 駅前４丁目４−８IBALAB＠広場（茨木市市民会館跡地）\, 茨木市駅前\, 大阪府\, 567-0888\, 日本
CATEGORIES:体験・練習会,大阪
END:VEVENT
BEGIN:VEVENT
DTSTART;TZID=Asia/Tokyo:20260111T120000
DTEND;TZID=Asia/Tokyo:20260111T160000
DTSTAMP:20260423T192414
CREATED:20260115T132903Z
LAST-MODIFIED:20260115T132903Z
UID:12004-1768132800-1768147200@jmkride.jp
SUMMARY:茨城 都和南小学校フリースケート体験会
DESCRIPTION:内　容　：　初めての方から上級者の方まで誰でも参加OK！ \n主催者　：　フリースケートチーム Sixty-Four \n参加者用LINE　：　参加者はこちらから参加表明してください \n注　意　：\n・ いかなる事故および怪我、病気なども自己責任とさせていただきますので、\nプロテクターなど保護具の装備および体調管理などは各自でお願いします。\nまた、周囲にいる一般の方に注意して練習してください。 \n・ お子様などをお連れになる場合は、お子様から目を離さないようお願いします。\nいかなるお子様の事故および怪我、病気なども保護者の責任とさせていただきます。 \n・ 試乗用のフリースケートはこちらで用意しています。 \n・ 後日、練習会の様子をレポートとして作成し、公式サイト等にアップされます。\n参加申込み書に記入いただいた名前、写真・動画などを使用しますのでご了承ください。\n不都合がある場合は、事前にお知らせください。
URL:https://jmkride.jp/event/260111ibaraki
LOCATION:茨城 土浦市立都和南小学校\, 3090\, 土浦市常名\, 茨城県\, 300-0065\, 日本
CATEGORIES:体験・練習会,茨城
ORGANIZER;CN="JMKRIDE":MAILTO:info@jmkride.jp
END:VEVENT
END:VCALENDAR