BEGIN:VCALENDAR
VERSION:2.0
PRODID:-//フリースケート / JMKRIDE公式サイト - ECPv6.15.20//NONSGML v1.0//EN
CALSCALE:GREGORIAN
METHOD:PUBLISH
X-WR-CALNAME:フリースケート / JMKRIDE公式サイト
X-ORIGINAL-URL:https://jmkride.jp
X-WR-CALDESC:フリースケート / JMKRIDE公式サイト のイベント
REFRESH-INTERVAL;VALUE=DURATION:PT1H
X-Robots-Tag:noindex
X-PUBLISHED-TTL:PT1H
BEGIN:VTIMEZONE
TZID:Asia/Tokyo
BEGIN:STANDARD
TZOFFSETFROM:+0900
TZOFFSETTO:+0900
TZNAME:JST
DTSTART:20230101T000000
END:STANDARD
END:VTIMEZONE
BEGIN:VEVENT
DTSTART;TZID=Asia/Tokyo:20250316T093000
DTEND;TZID=Asia/Tokyo:20250316T160000
DTSTAMP:20260424T075512
CREATED:20250303T072318Z
LAST-MODIFIED:20250303T072318Z
UID:10721-1742117400-1742140800@jmkride.jp
SUMMARY:千葉 ストリートスポーツキャンプ
DESCRIPTION:なかなか楽しめる場所のないストリートスポーツのできる場所として、月一回、定期的に愛好者が集って、千葉市協力のもと実施をしています。\nストリートスポーツを楽しみながら、体験会やレッスンなどを通して技術の向上とルールやマナーといった知識を共有して、ストリートスポーツの認知を図って行きたいと思います。そして、SSCがストリートスポーツを通した世代を超えたコミュニティの広がる場にしていきたいと思います。\n参加自由！、ストリートな方、挑戦したい方、活動に協力頂ける方、皆でエンジョイしましょう！！　ファミリーでの参加も多いです。年齢・性別関係なし、楽しいからやる！ が基本です^^/
URL:https://jmkride.jp/event/250316chiba
LOCATION:千葉 千葉市蘇我スポーツ公園 フクダ電子ボードエリア\, 川崎町 フクダ電子ボードエリア\, 千葉市中央区\, 260-0835\, 日本
CATEGORIES:体験・練習会,千葉
END:VEVENT
BEGIN:VEVENT
DTSTART;TZID=Asia/Tokyo:20250309T120000
DTEND;TZID=Asia/Tokyo:20250309T160000
DTSTAMP:20260424T075512
CREATED:20250119T062815Z
LAST-MODIFIED:20250119T062815Z
UID:10555-1741521600-1741536000@jmkride.jp
SUMMARY:茨城 都和南小学校フリースケート体験会
DESCRIPTION:内　容　：　初めての方から上級者の方まで誰でも参加OK！ \n主催者　：　フリースケートチーム Sixty-Four \n参加者用LINE　：　参加者はこちらから参加表明してください \n注　意　：\n・ いかなる事故および怪我、病気なども自己責任とさせていただきますので、\nプロテクターなど保護具の装備および体調管理などは各自でお願いします。\nまた、周囲にいる一般の方に注意して練習してください。 \n・ お子様などをお連れになる場合は、お子様から目を離さないようお願いします。\nいかなるお子様の事故および怪我、病気なども保護者の責任とさせていただきます。 \n・ 試乗用のフリースケートはこちらで用意しています。 \n・ 後日、練習会の様子をレポートとして作成し、公式サイト等にアップされます。\n参加申込み書に記入いただいた名前、写真・動画などを使用しますのでご了承ください。\n不都合がある場合は、事前にお知らせください。
URL:https://jmkride.jp/event/250309ibaraki
LOCATION:茨城 土浦市立都和南小学校\, 3090\, 土浦市常名\, 茨城県\, 300-0065\, 日本
CATEGORIES:体験・練習会,茨城
END:VEVENT
BEGIN:VEVENT
DTSTART;TZID=Asia/Tokyo:20250309T110000
DTEND;TZID=Asia/Tokyo:20250309T170000
DTSTAMP:20260424T075512
CREATED:20250303T072207Z
LAST-MODIFIED:20250303T072207Z
UID:10719-1741518000-1741539600@jmkride.jp
SUMMARY:埼玉練習会
DESCRIPTION:[内容]\nみんなでワイワイフリースケーティング！\n試乗用フリースケートも用意してるので興味ある方には試乗もしてもらいつつ、フリースケートの魅力も伝える練習会です！ \n[連絡先]\n‪https://instagram.com/linksfreeskatesteam \nこちらのLinksアカウントに直接DMをください。 \nフリースケートチームLinks HP\nhttps://links-20170504.amebaownd.com/
URL:https://jmkride.jp/event/250309saitama
LOCATION:埼玉 さいたま水上公園\, 日の出2丁目\, 上尾市\, 埼玉県\, 362-0032\, 日本
CATEGORIES:体験・練習会,埼玉
END:VEVENT
BEGIN:VEVENT
DTSTART;TZID=Asia/Tokyo:20250309T080000
DTEND;TZID=Asia/Tokyo:20250309T100000
DTSTAMP:20260424T075512
CREATED:20250303T072050Z
LAST-MODIFIED:20250303T072050Z
UID:10717-1741507200-1741514400@jmkride.jp
SUMMARY:愛知 フリースケート練習会
DESCRIPTION:誰でも参加できます。
URL:https://jmkride.jp/event/250309aichi
LOCATION:愛知 パークアリーナ小牧\, 間々原新田737\, 小牧市\, 愛知県\, 485-0016\, 日本
CATEGORIES:体験・練習会,愛知
END:VEVENT
BEGIN:VEVENT
DTSTART;TZID=Asia/Tokyo:20250302T110000
DTEND;TZID=Asia/Tokyo:20250302T170000
DTSTAMP:20260424T075512
CREATED:20250303T071920Z
LAST-MODIFIED:20250303T071920Z
UID:10714-1740913200-1740934800@jmkride.jp
SUMMARY:大阪 近畿地区フリースケート試乗・練習会
DESCRIPTION:数年に一度の寒波が月に何度も来ている不思議な状況に、言葉って難しいなと感じてるピエトロです。\nさて、３月の月例試乗会ですが、久しぶりに大阪市西淀川区の「旧大阪市営バス 歌島橋バスターミナル跡地」にお邪魔します。屋根もあり、適度な空調も効き、良い場所だったのですが、ここでの試乗会もいったん今回で終わります。大阪・関西万博の為の送迎バスの車庫になるとか。なので、まだ一回もバスターミナルで滑ってないよって人、しばらく使えなくなるなら最後に滑っとくかって人、ぜひご参加ください。そして、フリースケートしたことないって人、ちょっと乗ったけどうまく乗れないって人、丁寧に教えるので、ぜひぜひ体験や練習しに来てください。\n雨天決行。現地でお待ちしてます。
URL:https://jmkride.jp/event/250302osaka
LOCATION:大阪 歌島橋バスターミナル跡地\, 御幣島２丁目４−２０\, 大阪市西淀川区\, 大阪府\, 5550012\, 日本
CATEGORIES:体験・練習会,大阪
END:VEVENT
BEGIN:VEVENT
DTSTART;TZID=Asia/Tokyo:20250216T120000
DTEND;TZID=Asia/Tokyo:20250216T160000
DTSTAMP:20260424T075512
CREATED:20250119T063602Z
LAST-MODIFIED:20250119T063602Z
UID:10566-1739707200-1739721600@jmkride.jp
SUMMARY:東京 フリースケート体験会
DESCRIPTION:場所　:　東京臨海広域防災公園（東京都江東区）\n■車でのアクセス\n首都高速道路有明出口から出て、ゆりかもめ有明駅側。\n公園の有明口から奥のヘリポート付近。（※その時の状況により、公園内の別の場所に移動することがあります。） \n■電車でのアクセス\nりんかい線 国際展示場駅より徒歩4分。\nゆりかもめ 有明駅より徒歩2分。\n公園の有明口から奥のヘリポート。\n主催　:　日本フリースケート協会\n連絡先　:　メールアドレス　info@jflsa.jpn.org\n１） 雨天中止の連絡は、前日18時までに、協会ホームページに掲載します。\n２） 開催可否の判断は、イベント前日17時～18時の時点で『ウェザーニュース：お台場(外部リンク)』の情報を参照して、\nイベント当日の10時　～12時に降水予定がある場合、イベントを中止にします。 \n注意事項\n①公園に大勢の方が来訪されます。他の利用者が安心して通行出来るよう、ご協力をよろしくお願いします。\n②いかなる事故および怪我、病気なども自己責任とさせていただきますので、プロテクターなど保護具の装備および\n体調管理などは各自でお願いします。\n③試乗・滑走される方は、スタッフの指示に従って危険行為に及ばぬようご注意下さい。\n④飲食等のゴミは、各自持ち帰りでお願いします。\n⑤ お子様などをお連れになる場合は、お子様から目を離さないようお願いします。\nいかなるお子様の事故および怪我、病気なども保護者の責任とさせていただきます。\n⑥後日、練習会の様子をレポートとして作成し、公式サイト等にアップされます。\n参加申込み書に記入いただいた名前、写真・動画などを使用しますのでご了承ください。
URL:https://jmkride.jp/event/250216tokyo
LOCATION:東京 東京臨海広域防災公園\, 有明3-8-35\, 江東区\, 東京都\, 135-0063\, 日本
CATEGORIES:体験・練習会,東京
ATTACH;FMTTYPE=image/jpeg:https://jmkride.jp/wp-content/uploads/2023/11/240728tokyo.jpg
ORGANIZER;CN="JMKRIDE":MAILTO:info@jmkride.jp
END:VEVENT
BEGIN:VEVENT
DTSTART;TZID=Asia/Tokyo:20250216T100000
DTEND;TZID=Asia/Tokyo:20250216T160000
DTSTAMP:20260424T075512
CREATED:20250203T023709Z
LAST-MODIFIED:20250203T023709Z
UID:10613-1739700000-1739721600@jmkride.jp
SUMMARY:千葉 ストリートスポーツキャンプ
DESCRIPTION:なかなか楽しめる場所のないストリートスポーツのできる場所として、月一回、定期的に愛好者が集って、千葉市協力のもと実施をしています。\nストリートスポーツを楽しみながら、体験会やレッスンなどを通して技術の向上とルールやマナーといった知識を共有して、ストリートスポーツの認知を図って行きたいと思います。そして、SSCがストリートスポーツを通した世代を超えたコミュニティの広がる場にしていきたいと思います。\n参加自由！、ストリートな方、挑戦したい方、活動に協力頂ける方、皆でエンジョイしましょう！！　ファミリーでの参加も多いです。年齢・性別関係なし、楽しいからやる！ が基本です^^/
URL:https://jmkride.jp/event/250216chiba
LOCATION:千葉 千葉市蘇我スポーツ公園 フクダ電子ボードエリア\, 川崎町 フクダ電子ボードエリア\, 千葉市中央区\, 260-0835\, 日本
CATEGORIES:体験・練習会,千葉
END:VEVENT
BEGIN:VEVENT
DTSTART;TZID=Asia/Tokyo:20250209T120000
DTEND;TZID=Asia/Tokyo:20250209T170000
DTSTAMP:20260424T075512
CREATED:20250203T023514Z
LAST-MODIFIED:20250203T023514Z
UID:10611-1739102400-1739120400@jmkride.jp
SUMMARY:埼玉練習会
DESCRIPTION:[内容]\nみんなでワイワイフリースケーティング！\n試乗用フリースケートも用意してるので興味ある方には試乗もしてもらいつつ、フリースケートの魅力も伝える練習会です！ \n[連絡先]\n‪https://instagram.com/linksfreeskatesteam \nこちらのLinksアカウントに直接DMをください。 \nフリースケートチームLinks HP\nhttps://links-20170504.amebaownd.com/
URL:https://jmkride.jp/event/250209saitama
LOCATION:埼玉 さいたま水上公園\, 日の出2丁目\, 上尾市\, 埼玉県\, 362-0032\, 日本
CATEGORIES:体験・練習会,埼玉
END:VEVENT
BEGIN:VEVENT
DTSTART;TZID=Asia/Tokyo:20250209T120000
DTEND;TZID=Asia/Tokyo:20250209T160000
DTSTAMP:20260424T075512
CREATED:20250119T062601Z
LAST-MODIFIED:20250208T135230Z
UID:10553-1739102400-1739116800@jmkride.jp
SUMMARY:茨城 都和南小学校フリースケート体験会
DESCRIPTION:内　容　：　初めての方から上級者の方まで誰でも参加OK！ \n主催者　：　フリースケートチーム Sixty-Four \n参加者用LINE　：　参加者はこちらから参加表明してください \n注　意　：\n・ いかなる事故および怪我、病気なども自己責任とさせていただきますので、\nプロテクターなど保護具の装備および体調管理などは各自でお願いします。\nまた、周囲にいる一般の方に注意して練習してください。 \n・ お子様などをお連れになる場合は、お子様から目を離さないようお願いします。\nいかなるお子様の事故および怪我、病気なども保護者の責任とさせていただきます。 \n・ 試乗用のフリースケートはこちらで用意しています。 \n・ 後日、練習会の様子をレポートとして作成し、公式サイト等にアップされます。\n参加申込み書に記入いただいた名前、写真・動画などを使用しますのでご了承ください。\n不都合がある場合は、事前にお知らせください。
URL:https://jmkride.jp/event/250209ibaraki
LOCATION:茨城 土浦市立都和南小学校\, 3090\, 土浦市常名\, 茨城県\, 300-0065\, 日本
CATEGORIES:体験・練習会,茨城
ATTACH;FMTTYPE=image/jpeg:https://jmkride.jp/wp-content/uploads/2025/01/250209都和南.jpg
END:VEVENT
BEGIN:VEVENT
DTSTART;TZID=Asia/Tokyo:20250209T080000
DTEND;TZID=Asia/Tokyo:20250209T100000
DTSTAMP:20260424T075512
CREATED:20250119T063332Z
LAST-MODIFIED:20250119T063332Z
UID:10549-1739088000-1739095200@jmkride.jp
SUMMARY:愛知 フリースケート練習会
DESCRIPTION:誰でも参加できます。
URL:https://jmkride.jp/event/250209aichi
LOCATION:愛知 パークアリーナ小牧\, 間々原新田737\, 小牧市\, 愛知県\, 485-0016\, 日本
CATEGORIES:体験・練習会,愛媛
END:VEVENT
BEGIN:VEVENT
DTSTART;TZID=Asia/Tokyo:20250202T110000
DTEND;TZID=Asia/Tokyo:20250202T170000
DTSTAMP:20260424T075512
CREATED:20250203T023326Z
LAST-MODIFIED:20250203T023326Z
UID:10609-1738494000-1738515600@jmkride.jp
SUMMARY:大阪 近畿地区フリースケート試乗・練習会
DESCRIPTION:年が明けて早や１か月が過ぎようとしてますが、皆さんいかがお過ごしでしょうか？\nさて、少し遅くなりましたが、２月の試乗会の告知です。\n２月は偶数月恒例の茨木市の IBALAB@広場 にお邪魔します。今年度をもって、リニューアルのため一旦 IBALAB@広場は閉鎖とのことで、この場所でのフリースケート試乗会は一応ですが今回が最後となります。一度でもIBALAB@広場でフリースケートに乗ったことがある方、ラストラン？ラストスケート？ご一緒しませんか？もちろん、試乗会ですので乗ったことない方や、初めてIBALAB@広場に来るよという方も大歓迎。みんなで一緒に楽しみましょう。\n一年で一番寒い時期の試乗会です。寒さ対策をしっかりして、怪我の無いように、最後まで安全にIBALAB@広場を使わせていただきましょう。\nそれでは当日、現地で。\nSEE YOU !!
URL:https://jmkride.jp/event/250202osaka
LOCATION:大阪 IBALAB＠広場\, 駅前４丁目４−８IBALAB＠広場（茨木市市民会館跡地）\, 茨木市駅前\, 大阪府\, 567-0888\, 日本
CATEGORIES:体験・練習会,大阪
END:VEVENT
BEGIN:VEVENT
DTSTART;TZID=Asia/Tokyo:20250126T120000
DTEND;TZID=Asia/Tokyo:20250126T160000
DTSTAMP:20260424T075512
CREATED:20231110T090830Z
LAST-MODIFIED:20241108T123321Z
UID:9271-1737892800-1737907200@jmkride.jp
SUMMARY:東京 フリースケート体験会
DESCRIPTION:場所　:　東京臨海広域防災公園（東京都江東区）\n■車でのアクセス\n首都高速道路有明出口から出て、ゆりかもめ有明駅側。\n公園の有明口から奥のヘリポート付近。（※その時の状況により、公園内の別の場所に移動することがあります。） \n■電車でのアクセス\nりんかい線 国際展示場駅より徒歩4分。\nゆりかもめ 有明駅より徒歩2分。\n公園の有明口から奥のヘリポート。\n主催　:　日本フリースケート協会\n連絡先　:　メールアドレス　info@jflsa.jpn.org\n１） 雨天中止の連絡は、前日18時までに、協会ホームページに掲載します。\n２） 開催可否の判断は、イベント前日17時～18時の時点で『ウェザーニュース：お台場(外部リンク)』の情報を参照して、\nイベント当日の10時　～12時に降水予定がある場合、イベントを中止にします。 \n注意事項\n①公園に大勢の方が来訪されます。他の利用者が安心して通行出来るよう、ご協力をよろしくお願いします。\n②いかなる事故および怪我、病気なども自己責任とさせていただきますので、プロテクターなど保護具の装備および\n体調管理などは各自でお願いします。\n③試乗・滑走される方は、スタッフの指示に従って危険行為に及ばぬようご注意下さい。\n④飲食等のゴミは、各自持ち帰りでお願いします。\n⑤ お子様などをお連れになる場合は、お子様から目を離さないようお願いします。\nいかなるお子様の事故および怪我、病気なども保護者の責任とさせていただきます。\n⑥後日、練習会の様子をレポートとして作成し、公式サイト等にアップされます。\n参加申込み書に記入いただいた名前、写真・動画などを使用しますのでご了承ください。
URL:https://jmkride.jp/event/250126tokyo
LOCATION:東京 東京臨海広域防災公園\, 有明3-8-35\, 江東区\, 東京都\, 135-0063\, 日本
CATEGORIES:体験・練習会,東京
ATTACH;FMTTYPE=image/jpeg:https://jmkride.jp/wp-content/uploads/2023/11/240728tokyo.jpg
ORGANIZER;CN="%E6%97%A5%E6%9C%AC%E3%83%95%E3%83%AA%E3%83%BC%E3%82%B9%E3%82%B1%E3%83%BC%E3%83%88%E5%8D%94%E4%BC%9A":MAILTO:info@jflsa.jpn.org
END:VEVENT
BEGIN:VEVENT
DTSTART;TZID=Asia/Tokyo:20250119T100000
DTEND;TZID=Asia/Tokyo:20250119T160000
DTSTAMP:20260424T075512
CREATED:20250119T062141Z
LAST-MODIFIED:20250119T062141Z
UID:10547-1737280800-1737302400@jmkride.jp
SUMMARY:千葉 ストリートスポーツキャンプ
DESCRIPTION:なかなか楽しめる場所のないストリートスポーツのできる場所として、月一回、定期的に愛好者が集って、千葉市協力のもと実施をしています。\nストリートスポーツを楽しみながら、体験会やレッスンなどを通して技術の向上とルールやマナーといった知識を共有して、ストリートスポーツの認知を図って行きたいと思います。そして、SSCがストリートスポーツを通した世代を超えたコミュニティの広がる場にしていきたいと思います。\n参加自由！、ストリートな方、挑戦したい方、活動に協力頂ける方、皆でエンジョイしましょう！！　ファミリーでの参加も多いです。年齢・性別関係なし、楽しいからやる！ が基本です^^/
URL:https://jmkride.jp/event/250119chiba
LOCATION:千葉 千葉市蘇我スポーツ公園 フクダ電子ボードエリア\, 川崎町 フクダ電子ボードエリア\, 千葉市中央区\, 260-0835\, 日本
CATEGORIES:体験・練習会,千葉
END:VEVENT
BEGIN:VEVENT
DTSTART;TZID=Asia/Tokyo:20250112T120000
DTEND;TZID=Asia/Tokyo:20250112T160000
DTSTAMP:20260424T075512
CREATED:20241108T124203Z
LAST-MODIFIED:20250111T110521Z
UID:10381-1736683200-1736697600@jmkride.jp
SUMMARY:茨城 都和南小学校フリースケート体験会
DESCRIPTION:内　容　：　初めての方から上級者の方まで誰でも参加OK！ \n主催者　：　フリースケートチーム Sixty-Four \n参加者用LINE　：　参加者はこちらから参加表明してください \n注　意　：\n・ いかなる事故および怪我、病気なども自己責任とさせていただきますので、\nプロテクターなど保護具の装備および体調管理などは各自でお願いします。\nまた、周囲にいる一般の方に注意して練習してください。 \n・ お子様などをお連れになる場合は、お子様から目を離さないようお願いします。\nいかなるお子様の事故および怪我、病気なども保護者の責任とさせていただきます。 \n・ 試乗用のフリースケートはこちらで用意しています。 \n・ 後日、練習会の様子をレポートとして作成し、公式サイト等にアップされます。\n参加申込み書に記入いただいた名前、写真・動画などを使用しますのでご了承ください。\n不都合がある場合は、事前にお知らせください。
URL:https://jmkride.jp/event/240112ibaraki
LOCATION:茨城 土浦市立都和南小学校\, 3090\, 土浦市常名\, 茨城県\, 300-0065\, 日本
CATEGORIES:体験・練習会,茨城
END:VEVENT
BEGIN:VEVENT
DTSTART;TZID=Asia/Tokyo:20250104T090000
DTEND;TZID=Asia/Tokyo:20250104T200000
DTSTAMP:20260424T075512
CREATED:20241108T124424Z
LAST-MODIFIED:20241108T124424Z
UID:10383-1735981200-1736020800@jmkride.jp
SUMMARY:茨城 64餅つき大会
DESCRIPTION:毎年恒例の餅つき大会、今年もやります！\n準備から参加できる人は9時にJMKパーク集合。\n餅つきし始めるのは11時予定です。\nフリースケート練習、体験もできます！
URL:https://jmkride.jp/event/240104ibaraki
LOCATION:茨城 JMKパーク\, JMKパーク\, 土浦市\, 茨城県\, 日本
CATEGORIES:体験・練習会,茨城
END:VEVENT
BEGIN:VEVENT
DTSTART;TZID=Asia/Tokyo:20241222T120000
DTEND;TZID=Asia/Tokyo:20241222T160000
DTSTAMP:20260424T075512
CREATED:20231110T090250Z
LAST-MODIFIED:20231110T090458Z
UID:9244-1734868800-1734883200@jmkride.jp
SUMMARY:東京 フリースケート体験会
DESCRIPTION:場所　:　東京臨海広域防災公園（東京都江東区）\n■車でのアクセス\n首都高速道路有明出口から出て、ゆりかもめ有明駅側。\n公園の有明口から奥のヘリポート付近。（※その時の状況により、公園内の別の場所に移動することがあります。） \n■電車でのアクセス\nりんかい線 国際展示場駅より徒歩4分。\nゆりかもめ 有明駅より徒歩2分。\n公園の有明口から奥のヘリポート。\n主催　:　日本フリースケート協会\n連絡先　:　メールアドレス　info@jflsa.jpn.org\n１） 雨天中止の連絡は、前日18時までに、協会ホームページに掲載します。\n２） 開催可否の判断は、イベント前日17時～18時の時点で『ウェザーニュース：お台場(外部リンク)』の情報を参照して、\nイベント当日の10時　～12時に降水予定がある場合、イベントを中止にします。 \n注意事項\n①公園に大勢の方が来訪されます。他の利用者が安心して通行出来るよう、ご協力をよろしくお願いします。\n②いかなる事故および怪我、病気なども自己責任とさせていただきますので、プロテクターなど保護具の装備および\n体調管理などは各自でお願いします。\n③試乗・滑走される方は、スタッフの指示に従って危険行為に及ばぬようご注意下さい。\n④飲食等のゴミは、各自持ち帰りでお願いします。\n⑤ お子様などをお連れになる場合は、お子様から目を離さないようお願いします。\nいかなるお子様の事故および怪我、病気なども保護者の責任とさせていただきます。\n⑥後日、練習会の様子をレポートとして作成し、公式サイト等にアップされます。\n参加申込み書に記入いただいた名前、写真・動画などを使用しますのでご了承ください。
URL:https://jmkride.jp/event/241222tokyo
LOCATION:東京 東京臨海広域防災公園\, 有明3-8-35\, 江東区\, 東京都\, 135-0063\, 日本
CATEGORIES:体験・練習会,東京
ATTACH;FMTTYPE=image/jpeg:https://jmkride.jp/wp-content/uploads/2023/11/241222tokyo.jpg
ORGANIZER;CN="%E6%97%A5%E6%9C%AC%E3%83%95%E3%83%AA%E3%83%BC%E3%82%B9%E3%82%B1%E3%83%BC%E3%83%88%E5%8D%94%E4%BC%9A":MAILTO:info@jflsa.jpn.org
END:VEVENT
BEGIN:VEVENT
DTSTART;TZID=Asia/Tokyo:20241222T080000
DTEND;TZID=Asia/Tokyo:20241222T100000
DTSTAMP:20260424T075512
CREATED:20241012T131131Z
LAST-MODIFIED:20241012T131131Z
UID:10279-1734854400-1734861600@jmkride.jp
SUMMARY:愛知 フリースケート練習会
DESCRIPTION:誰でも参加できます。
URL:https://jmkride.jp/event/241222aichi
LOCATION:愛知 パークアリーナ小牧\, 間々原新田737\, 小牧市\, 愛知県\, 485-0016\, 日本
CATEGORIES:体験・練習会,愛知
END:VEVENT
BEGIN:VEVENT
DTSTART;TZID=Asia/Tokyo:20241215T100000
DTEND;TZID=Asia/Tokyo:20241215T160000
DTSTAMP:20260424T075512
CREATED:20241108T124033Z
LAST-MODIFIED:20241108T124033Z
UID:10379-1734256800-1734278400@jmkride.jp
SUMMARY:千葉 ストリートスポーツキャンプ
DESCRIPTION:なかなか楽しめる場所のないストリートスポーツのできる場所として、月一回、定期的に愛好者が集って、千葉市協力のもと実施をしています。\nストリートスポーツを楽しみながら、体験会やレッスンなどを通して技術の向上とルールやマナーといった知識を共有して、ストリートスポーツの認知を図って行きたいと思います。そして、SSCがストリートスポーツを通した世代を超えたコミュニティの広がる場にしていきたいと思います。\n参加自由！、ストリートな方、挑戦したい方、活動に協力頂ける方、皆でエンジョイしましょう！！　ファミリーでの参加も多いです。年齢・性別関係なし、楽しいからやる！ が基本です^^/
URL:https://jmkride.jp/event/241215chiba
LOCATION:千葉 千葉市蘇我スポーツ公園 フクダ電子ボードエリア\, 川崎町 フクダ電子ボードエリア\, 千葉市中央区\, 260-0835\, 日本
CATEGORIES:体験・練習会,千葉
END:VEVENT
BEGIN:VEVENT
DTSTART;TZID=Asia/Tokyo:20241208T120000
DTEND;TZID=Asia/Tokyo:20241208T160000
DTSTAMP:20260424T075512
CREATED:20241108T122536Z
LAST-MODIFIED:20241108T122536Z
UID:10365-1733659200-1733673600@jmkride.jp
SUMMARY:茨城 都和南小学校フリースケート体験会
DESCRIPTION:内　容　：　初めての方から上級者の方まで誰でも参加OK！ \n主催者　：　フリースケートチーム Sixty-Four \n参加者用LINE　：　参加者はこちらから参加表明してください \n注　意　：\n・ いかなる事故および怪我、病気なども自己責任とさせていただきますので、\nプロテクターなど保護具の装備および体調管理などは各自でお願いします。\nまた、周囲にいる一般の方に注意して練習してください。 \n・ お子様などをお連れになる場合は、お子様から目を離さないようお願いします。\nいかなるお子様の事故および怪我、病気なども保護者の責任とさせていただきます。 \n・ 試乗用のフリースケートはこちらで用意しています。 \n・ 後日、練習会の様子をレポートとして作成し、公式サイト等にアップされます。\n参加申込み書に記入いただいた名前、写真・動画などを使用しますのでご了承ください。\n不都合がある場合は、事前にお知らせください。
URL:https://jmkride.jp/event/241208ibaraki
LOCATION:茨城 土浦市立都和南小学校\, 3090\, 土浦市常名\, 茨城県\, 300-0065\, 日本
CATEGORIES:体験・練習会,茨城
END:VEVENT
BEGIN:VEVENT
DTSTART;TZID=Asia/Tokyo:20241208T080000
DTEND;TZID=Asia/Tokyo:20241208T100000
DTSTAMP:20260424T075512
CREATED:20241012T131051Z
LAST-MODIFIED:20241012T131051Z
UID:10280-1733644800-1733652000@jmkride.jp
SUMMARY:愛知 フリースケート練習会
DESCRIPTION:誰でも参加できます。
URL:https://jmkride.jp/event/241208aichi
LOCATION:愛知 パークアリーナ小牧\, 間々原新田737\, 小牧市\, 愛知県\, 485-0016\, 日本
CATEGORIES:体験・練習会,愛知
END:VEVENT
BEGIN:VEVENT
DTSTART;TZID=Asia/Tokyo:20241124T100000
DTEND;TZID=Asia/Tokyo:20241124T150000
DTSTAMP:20260424T075512
CREATED:20241108T123211Z
LAST-MODIFIED:20241122T125921Z
UID:10371-1732442400-1732460400@jmkride.jp
SUMMARY:茨城 カレーフェスティバル フリースケート体験会
DESCRIPTION:Jcomフィールドで「土浦カレーフェスティバル」が実施されます。\nご当地のカレーはもとより、全国各地からカレー業者が集まり、約40種類のカレー料が堪能できます。 \nフリースケート体験会は川口運動公園管理事務所前で開催します。 \n内　容　：　初めての方から上級者の方まで誰でも参加OK！ \n主催者　：　Kyoki　問い合わせ\n・ 携帯 ： 070-8582-2378（練習会当日専用） \n注　意　：\n・ いかなる事故および怪我、病気なども自己責任とさせていただきますので、\nプロテクターなど保護具の装備および体調管理などは各自でお願いします。\nまた、周囲にいる一般の方に注意して練習してください。 \n・ お子様などをお連れになる場合は、お子様から目を離さないようお願いします。\nいかなるお子様の事故および怪我、病気なども保護者の責任とさせていただきます。 \n・ 試乗用のフリースケートはこちらで用意しています。 \n・ 後日、練習会の様子をレポートとして作成し、公式サイト等にアップされます。\n参加申込み書に記入いただいた名前、写真・動画などを使用しますのでご了承ください。\n不都合がある場合は、事前にお知らせください。
URL:https://jmkride.jp/event/241124ibaraki
LOCATION:茨城 川口運動公園管理事務所前\, 川口２丁目１２−７５\, 土浦市\, 茨城県\, 300033\, Japan
CATEGORIES:体験・練習会,茨城
ATTACH;FMTTYPE=image/jpeg:https://jmkride.jp/wp-content/uploads/2024/11/241123チラシ.jpg
END:VEVENT
BEGIN:VEVENT
DTSTART;TZID=Asia/Tokyo:20241124T080000
DTEND;TZID=Asia/Tokyo:20241124T100000
DTSTAMP:20260424T075512
CREATED:20241108T123848Z
LAST-MODIFIED:20241108T123848Z
UID:10377-1732435200-1732442400@jmkride.jp
SUMMARY:愛知 フリースケート練習会
DESCRIPTION:誰でも参加できます。
URL:https://jmkride.jp/event/241124aichi
LOCATION:愛知 パークアリーナ小牧\, 間々原新田737\, 小牧市\, 愛知県\, 485-0016\, 日本
CATEGORIES:体験・練習会,愛知
END:VEVENT
BEGIN:VEVENT
DTSTART;TZID=Asia/Tokyo:20241123T100000
DTEND;TZID=Asia/Tokyo:20241123T160000
DTSTAMP:20260424T075512
CREATED:20241108T123022Z
LAST-MODIFIED:20241122T125825Z
UID:10367-1732356000-1732377600@jmkride.jp
SUMMARY:茨城 カレーフェスティバル フリースケート体験会
DESCRIPTION:Jcomフィールドで「土浦カレーフェスティバル」が実施されます。\nご当地のカレーはもとより、全国各地からカレー業者が集まり、約40種類のカレー料が堪能できます。 \nフリースケート体験会は川口運動公園管理事務所前で開催します。 \n内　容　：　初めての方から上級者の方まで誰でも参加OK！ \n主催者　：　Kyoki　問い合わせ\n・ 携帯 ： 070-8582-2378（練習会当日専用） \n注　意　：\n・ いかなる事故および怪我、病気なども自己責任とさせていただきますので、\nプロテクターなど保護具の装備および体調管理などは各自でお願いします。\nまた、周囲にいる一般の方に注意して練習してください。 \n・ お子様などをお連れになる場合は、お子様から目を離さないようお願いします。\nいかなるお子様の事故および怪我、病気なども保護者の責任とさせていただきます。 \n・ 試乗用のフリースケートはこちらで用意しています。 \n・ 後日、練習会の様子をレポートとして作成し、公式サイト等にアップされます。\n参加申込み書に記入いただいた名前、写真・動画などを使用しますのでご了承ください。\n不都合がある場合は、事前にお知らせください。
URL:https://jmkride.jp/event/241123ibaraki
LOCATION:茨城 川口運動公園管理事務所前\, 川口２丁目１２−７５\, 土浦市\, 茨城県\, 300033\, Japan
CATEGORIES:体験・練習会,茨城
ATTACH;FMTTYPE=image/jpeg:https://jmkride.jp/wp-content/uploads/2024/11/241123チラシ.jpg
END:VEVENT
BEGIN:VEVENT
DTSTART;TZID=Asia/Tokyo:20241117T120000
DTEND;TZID=Asia/Tokyo:20241117T160000
DTSTAMP:20260424T075512
CREATED:20231110T090429Z
LAST-MODIFIED:20241108T123550Z
UID:9263-1731844800-1731859200@jmkride.jp
SUMMARY:東京 フリースケート体験会
DESCRIPTION:場所　:　東京臨海広域防災公園（東京都江東区）\n■車でのアクセス\n首都高速道路有明出口から出て、ゆりかもめ有明駅側。\n公園の有明口から奥のヘリポート付近。（※その時の状況により、公園内の別の場所に移動することがあります。） \n■電車でのアクセス\nりんかい線 国際展示場駅より徒歩4分。\nゆりかもめ 有明駅より徒歩2分。\n公園の有明口から奥のヘリポート。\n主催　:　日本フリースケート協会\n連絡先　:　メールアドレス　info@jflsa.jpn.org\n１） 雨天中止の連絡は、前日18時までに、協会ホームページに掲載します。\n２） 開催可否の判断は、イベント前日17時～18時の時点で『ウェザーニュース：お台場(外部リンク)』の情報を参照して、\nイベント当日の10時　～12時に降水予定がある場合、イベントを中止にします。 \n注意事項\n①公園に大勢の方が来訪されます。他の利用者が安心して通行出来るよう、ご協力をよろしくお願いします。\n②いかなる事故および怪我、病気なども自己責任とさせていただきますので、プロテクターなど保護具の装備および\n体調管理などは各自でお願いします。\n③試乗・滑走される方は、スタッフの指示に従って危険行為に及ばぬようご注意下さい。\n④飲食等のゴミは、各自持ち帰りでお願いします。\n⑤ お子様などをお連れになる場合は、お子様から目を離さないようお願いします。\nいかなるお子様の事故および怪我、病気なども保護者の責任とさせていただきます。\n⑥後日、練習会の様子をレポートとして作成し、公式サイト等にアップされます。\n参加申込み書に記入いただいた名前、写真・動画などを使用しますのでご了承ください。
URL:https://jmkride.jp/event/241117tokyo
LOCATION:東京 東京臨海広域防災公園\, 有明3-8-35\, 江東区\, 東京都\, 135-0063\, 日本
CATEGORIES:体験・練習会,東京
ATTACH;FMTTYPE=image/jpeg:https://jmkride.jp/wp-content/uploads/2023/11/241124tokyo.jpg
ORGANIZER;CN="%E6%97%A5%E6%9C%AC%E3%83%95%E3%83%AA%E3%83%BC%E3%82%B9%E3%82%B1%E3%83%BC%E3%83%88%E5%8D%94%E4%BC%9A":MAILTO:info@jflsa.jpn.org
END:VEVENT
BEGIN:VEVENT
DTSTART;TZID=Asia/Tokyo:20241117T100000
DTEND;TZID=Asia/Tokyo:20241117T160000
DTSTAMP:20260424T075512
CREATED:20241108T123725Z
LAST-MODIFIED:20241108T123725Z
UID:10374-1731837600-1731859200@jmkride.jp
SUMMARY:千葉 ストリートスポーツキャンプ
DESCRIPTION:なかなか楽しめる場所のないストリートスポーツのできる場所として、月一回、定期的に愛好者が集って、千葉市協力のもと実施をしています。\nストリートスポーツを楽しみながら、体験会やレッスンなどを通して技術の向上とルールやマナーといった知識を共有して、ストリートスポーツの認知を図って行きたいと思います。そして、SSCがストリートスポーツを通した世代を超えたコミュニティの広がる場にしていきたいと思います。\n参加自由！、ストリートな方、挑戦したい方、活動に協力頂ける方、皆でエンジョイしましょう！！　ファミリーでの参加も多いです。年齢・性別関係なし、楽しいからやる！ が基本です^^/
URL:https://jmkride.jp/event/241117chiba
LOCATION:千葉 千葉市蘇我スポーツ公園 フクダ電子ボードエリア\, 川崎町 フクダ電子ボードエリア\, 千葉市中央区\, 260-0835\, 日本
CATEGORIES:体験・練習会,千葉
END:VEVENT
BEGIN:VEVENT
DTSTART;TZID=Asia/Tokyo:20241110T120000
DTEND;TZID=Asia/Tokyo:20241110T170000
DTSTAMP:20260424T075512
CREATED:20241108T122312Z
LAST-MODIFIED:20241108T122359Z
UID:10362-1731240000-1731258000@jmkride.jp
SUMMARY:埼玉練習会
DESCRIPTION:[内容]\nみんなでワイワイフリースケーティング！\n試乗用フリースケートも用意してるので興味ある方には試乗もしてもらいつつ、フリースケートの魅力も伝える練習会です！ \n[連絡先]\n‪https://instagram.com/linksfreeskatesteam \nこちらのLinksアカウントに直接DMをください。 \nフリースケートチームLinks HP\nhttps://links-20170504.amebaownd.com/
URL:https://jmkride.jp/event/241110saitama
LOCATION:埼玉 さいたま水上公園\, 日の出2丁目\, 上尾市\, 埼玉県\, 362-0032\, 日本
CATEGORIES:体験・練習会,埼玉
END:VEVENT
BEGIN:VEVENT
DTSTART;TZID=Asia/Tokyo:20241110T120000
DTEND;TZID=Asia/Tokyo:20241110T160000
DTSTAMP:20260424T075512
CREATED:20241108T122003Z
LAST-MODIFIED:20241108T122003Z
UID:10359-1731240000-1731254400@jmkride.jp
SUMMARY:茨城 都和南小学校フリースケート体験会
DESCRIPTION:内　容　：　初めての方から上級者の方まで誰でも参加OK！ \n主催者　：　フリースケートチーム Sixty-Four \n参加者用LINE　：　参加者はこちらから参加表明してください \n注　意　：\n・ いかなる事故および怪我、病気なども自己責任とさせていただきますので、\nプロテクターなど保護具の装備および体調管理などは各自でお願いします。\nまた、周囲にいる一般の方に注意して練習してください。 \n・ お子様などをお連れになる場合は、お子様から目を離さないようお願いします。\nいかなるお子様の事故および怪我、病気なども保護者の責任とさせていただきます。 \n・ 試乗用のフリースケートはこちらで用意しています。 \n・ 後日、練習会の様子をレポートとして作成し、公式サイト等にアップされます。\n参加申込み書に記入いただいた名前、写真・動画などを使用しますのでご了承ください。\n不都合がある場合は、事前にお知らせください。
URL:https://jmkride.jp/event/241110ibaraki
LOCATION:茨城 土浦市立都和南小学校\, 3090\, 土浦市常名\, 茨城県\, 300-0065\, 日本
CATEGORIES:体験・練習会,茨城
END:VEVENT
BEGIN:VEVENT
DTSTART;TZID=Asia/Tokyo:20241110T080000
DTEND;TZID=Asia/Tokyo:20241110T100000
DTSTAMP:20260424T075512
CREATED:20241012T130947Z
LAST-MODIFIED:20241012T130947Z
UID:10276-1731225600-1731232800@jmkride.jp
SUMMARY:愛知 フリースケート練習会
DESCRIPTION:誰でも参加できます。
URL:https://jmkride.jp/event/241110aichi
LOCATION:愛知 パークアリーナ小牧\, 間々原新田737\, 小牧市\, 愛知県\, 485-0016\, 日本
CATEGORIES:体験・練習会,愛知
END:VEVENT
BEGIN:VEVENT
DTSTART;TZID=Asia/Tokyo:20241104T093000
DTEND;TZID=Asia/Tokyo:20241104T170000
DTSTAMP:20260424T075512
CREATED:20241012T130829Z
LAST-MODIFIED:20241012T130829Z
UID:10274-1730712600-1730739600@jmkride.jp
SUMMARY:千葉 SSCフェス
DESCRIPTION:今回のSSCフェスでは、インラインスケート、フリースケート、フリースタイルスケートボードの体験会や講習会、誰でも参加できるミニゲーム、スケートコンテスト（競技会）、デモンストレーションを実施します。それぞれストリートスポーツに興味のある方、体験したい方、上達したい方などなど、この機会にストリートスポーツで一緒に一日遊びましょう！！\n※ストリートスポーツキャンプは、ストリートスポーツを通して、世代を超えたコミュニティの輪を広げる試みをしています。
URL:https://jmkride.jp/event/241104chiba
LOCATION:千葉 千葉市蘇我スポーツ公園 フクダ電子ボードエリア\, 川崎町 フクダ電子ボードエリア\, 千葉市中央区\, 260-0835\, 日本
CATEGORIES:体験・練習会,千葉
END:VEVENT
BEGIN:VEVENT
DTSTART;TZID=Asia/Tokyo:20241103T110000
DTEND;TZID=Asia/Tokyo:20241103T200000
DTSTAMP:20260424T075512
CREATED:20231110T073639Z
LAST-MODIFIED:20231110T073639Z
UID:9211-1730631600-1730664000@jmkride.jp
SUMMARY:茨城 64祭り（BBQ&ランプ）
DESCRIPTION:※雨天はBBQのみ。 \nメンバーじゃなくてもOK、誰でも参加できます！\nランプだけの練習会です。（平地はありません） \n※参加希望の場合は、事前に64祭り専用LINEオープンチャットに参加してください。 \n※バーベキューをしながらランプセッション！\n参加費用は500円。そしてBBQ用の料理or食材を持ってきてください。飲み物は各自で用意。\n※ランプなどが初めてでもチャレンジしたい人にはレクチャーしますので、お気軽に参加ください！\n※フリースケートチーム【Sixty-Four】\nhttp://Sixty-Four.com
URL:https://jmkride.jp/event/241103ibaraki
LOCATION:茨城 64Park\, 64 Park\, 土浦市\, 茨城県\, 300-0823\, 日本
CATEGORIES:体験・練習会,茨城
END:VEVENT
END:VCALENDAR