BEGIN:VCALENDAR
VERSION:2.0
PRODID:-//フリースケート / JMKRIDE公式サイト - ECPv6.15.20//NONSGML v1.0//EN
CALSCALE:GREGORIAN
METHOD:PUBLISH
X-WR-CALNAME:フリースケート / JMKRIDE公式サイト
X-ORIGINAL-URL:https://jmkride.jp
X-WR-CALDESC:フリースケート / JMKRIDE公式サイト のイベント
REFRESH-INTERVAL;VALUE=DURATION:PT1H
X-Robots-Tag:noindex
X-PUBLISHED-TTL:PT1H
BEGIN:VTIMEZONE
TZID:Asia/Tokyo
BEGIN:STANDARD
TZOFFSETFROM:+0900
TZOFFSETTO:+0900
TZNAME:JST
DTSTART:20240101T000000
END:STANDARD
END:VTIMEZONE
BEGIN:VEVENT
DTSTART;TZID=Asia/Tokyo:20250502T100000
DTEND;TZID=Asia/Tokyo:20250505T200000
DTSTAMP:20260424T043015
CREATED:20250413T121104Z
LAST-MODIFIED:20250413T121104Z
UID:10909-1746180000-1746475200@jmkride.jp
SUMMARY:茨城 フリースケート世界大会2025
DESCRIPTION:フリースケート世界大会2025を開催します！\nオリンピックに新しい魅力をもたらしたスケートボード。その影響で、ローラースポーツは若い世代で大人気になっていて、どこのスケートパークでも多くの若者でにぎわっています。そんな人気のローラースポーツで「Made in 土浦」のJMKスケートを使った競技「フリースケート」を盛り上げたいと思っています。2023年に土浦市・うらら大屋根広場で開催されたフリースケート世界大会では、世界10の国と地域から６００名ほどが集まり、５種目を競い合いました。 \n世界トップライダーの滑りを間近で見るチャンス！見学だけでも楽しめますので、ぜひ参加してください！ \n・「土浦市」の後援により茨城県土浦市、うらら大屋根広場で開催します。 \n詳しくはコチラ\nhttps://jmkride.jp/2025jo\nhttps://jmkride.jp/fwc2025 (English)
URL:https://jmkride.jp/event/250503jo
LOCATION:茨城 うらら大屋根広場\, 9-1 うらら大屋根広場\, 土浦市大和町\, 茨城県\, 3000036\, 日本
CATEGORIES:大会,茨城
END:VEVENT
BEGIN:VEVENT
DTSTART;TZID=Asia/Tokyo:20250502T100000
DTEND;TZID=Asia/Tokyo:20250505T200000
DTSTAMP:20260424T043015
CREATED:20260115T134106Z
LAST-MODIFIED:20260115T134106Z
UID:12022-1746180000-1746475200@jmkride.jp
SUMMARY:茨城 フリースケート世界大会2026
DESCRIPTION:フリースケート世界大会2026を開催します！\nオリンピックに新しい魅力をもたらしたスケートボード。その影響で、ローラースポーツは若い世代で大人気になっていて、どこのスケートパークでも多くの若者でにぎわっています。そんな人気のローラースポーツで「Made in 土浦」のJMKスケートを使った競技「フリースケート」を盛り上げたいと思っています。2023年に土浦市・うらら大屋根広場で開催されたフリースケート世界大会では、世界10の国と地域から６００名ほどが集まり、５種目を競い合いました。 \n世界トップライダーの滑りを間近で見るチャンス！見学だけでも楽しめますので、ぜひ参加してください！ \n・「土浦市」の後援により茨城県土浦市、うらら大屋根広場で開催します。 \n詳しくはコチラ\nhttps://jmkride.jp/2026jo\nhttps://jmkride.jp/fwc2026 (English)
URL:https://jmkride.jp/event/260502ibaraki
LOCATION:茨城 うらら大屋根広場\, 9-1 うらら大屋根広場\, 土浦市大和町\, 茨城県\, 3000036\, 日本
CATEGORIES:大会,茨城
ORGANIZER;CN="JMKRIDE":MAILTO:info@jmkride.jp
END:VEVENT
BEGIN:VEVENT
DTSTART;TZID=Asia/Tokyo:20250511T120000
DTEND;TZID=Asia/Tokyo:20250511T160000
DTSTAMP:20260424T043015
CREATED:20250119T063028Z
LAST-MODIFIED:20250119T063028Z
UID:10560-1746964800-1746979200@jmkride.jp
SUMMARY:茨城 都和南小学校フリースケート体験会
DESCRIPTION:内　容　：　初めての方から上級者の方まで誰でも参加OK！ \n主催者　：　フリースケートチーム Sixty-Four \n参加者用LINE　：　参加者はこちらから参加表明してください \n注　意　：\n・ いかなる事故および怪我、病気なども自己責任とさせていただきますので、\nプロテクターなど保護具の装備および体調管理などは各自でお願いします。\nまた、周囲にいる一般の方に注意して練習してください。 \n・ お子様などをお連れになる場合は、お子様から目を離さないようお願いします。\nいかなるお子様の事故および怪我、病気なども保護者の責任とさせていただきます。 \n・ 試乗用のフリースケートはこちらで用意しています。 \n・ 後日、練習会の様子をレポートとして作成し、公式サイト等にアップされます。\n参加申込み書に記入いただいた名前、写真・動画などを使用しますのでご了承ください。\n不都合がある場合は、事前にお知らせください。
URL:https://jmkride.jp/event/250511ibaraki
LOCATION:茨城 土浦市立都和南小学校\, 3090\, 土浦市常名\, 茨城県\, 300-0065\, 日本
CATEGORIES:体験・練習会,茨城
END:VEVENT
END:VCALENDAR