BEGIN:VCALENDAR
VERSION:2.0
PRODID:-//フリースケート / JMKRIDE公式サイト - ECPv6.15.20//NONSGML v1.0//EN
CALSCALE:GREGORIAN
METHOD:PUBLISH
X-ORIGINAL-URL:https://jmkride.jp
X-WR-CALDESC:フリースケート / JMKRIDE公式サイト のイベント
REFRESH-INTERVAL;VALUE=DURATION:PT1H
X-Robots-Tag:noindex
X-PUBLISHED-TTL:PT1H
BEGIN:VTIMEZONE
TZID:Asia/Tokyo
BEGIN:STANDARD
TZOFFSETFROM:+0900
TZOFFSETTO:+0900
TZNAME:JST
DTSTART:20230101T000000
END:STANDARD
END:VTIMEZONE
BEGIN:VEVENT
DTSTART;TZID=Asia/Tokyo:20241102T080000
DTEND;TZID=Asia/Tokyo:20241102T170000
DTSTAMP:20260424T143249
CREATED:20231110T073817Z
LAST-MODIFIED:20241024T074632Z
UID:9213-1730534400-1730566800@jmkride.jp
SUMMARY:茨城　土浦全国花火競技大会 フリースケート練習会
DESCRIPTION:土浦の花火を見ながらメイドイン土浦のJMKスケートでフリースケートを楽しみましょう！
URL:https://jmkride.jp/event/241102ibaraki
LOCATION:茨城 JMKパーク\, JMKパーク\, 土浦市\, 茨城県\, 日本
CATEGORIES:体験・練習会,茨城
ATTACH;FMTTYPE=image/jpeg:https://jmkride.jp/wp-content/uploads/2023/11/241102花火大会.jpg
END:VEVENT
BEGIN:VEVENT
DTSTART;TZID=Asia/Tokyo:20241103T110000
DTEND;TZID=Asia/Tokyo:20241103T200000
DTSTAMP:20260424T143249
CREATED:20231110T073639Z
LAST-MODIFIED:20231110T073639Z
UID:9211-1730631600-1730664000@jmkride.jp
SUMMARY:茨城 64祭り（BBQ&ランプ）
DESCRIPTION:※雨天はBBQのみ。 \nメンバーじゃなくてもOK、誰でも参加できます！\nランプだけの練習会です。（平地はありません） \n※参加希望の場合は、事前に64祭り専用LINEオープンチャットに参加してください。 \n※バーベキューをしながらランプセッション！\n参加費用は500円。そしてBBQ用の料理or食材を持ってきてください。飲み物は各自で用意。\n※ランプなどが初めてでもチャレンジしたい人にはレクチャーしますので、お気軽に参加ください！\n※フリースケートチーム【Sixty-Four】\nhttp://Sixty-Four.com
URL:https://jmkride.jp/event/241103ibaraki
LOCATION:茨城 64Park\, 64 Park\, 土浦市\, 茨城県\, 300-0823\, 日本
CATEGORIES:体験・練習会,茨城
END:VEVENT
BEGIN:VEVENT
DTSTART;TZID=Asia/Tokyo:20241110T120000
DTEND;TZID=Asia/Tokyo:20241110T160000
DTSTAMP:20260424T143249
CREATED:20241108T122003Z
LAST-MODIFIED:20241108T122003Z
UID:10359-1731240000-1731254400@jmkride.jp
SUMMARY:茨城 都和南小学校フリースケート体験会
DESCRIPTION:内　容　：　初めての方から上級者の方まで誰でも参加OK！ \n主催者　：　フリースケートチーム Sixty-Four \n参加者用LINE　：　参加者はこちらから参加表明してください \n注　意　：\n・ いかなる事故および怪我、病気なども自己責任とさせていただきますので、\nプロテクターなど保護具の装備および体調管理などは各自でお願いします。\nまた、周囲にいる一般の方に注意して練習してください。 \n・ お子様などをお連れになる場合は、お子様から目を離さないようお願いします。\nいかなるお子様の事故および怪我、病気なども保護者の責任とさせていただきます。 \n・ 試乗用のフリースケートはこちらで用意しています。 \n・ 後日、練習会の様子をレポートとして作成し、公式サイト等にアップされます。\n参加申込み書に記入いただいた名前、写真・動画などを使用しますのでご了承ください。\n不都合がある場合は、事前にお知らせください。
URL:https://jmkride.jp/event/241110ibaraki
LOCATION:茨城 土浦市立都和南小学校\, 3090\, 土浦市常名\, 茨城県\, 300-0065\, 日本
CATEGORIES:体験・練習会,茨城
END:VEVENT
BEGIN:VEVENT
DTSTART;TZID=Asia/Tokyo:20241123T100000
DTEND;TZID=Asia/Tokyo:20241123T160000
DTSTAMP:20260424T143249
CREATED:20241108T123022Z
LAST-MODIFIED:20241122T125825Z
UID:10367-1732356000-1732377600@jmkride.jp
SUMMARY:茨城 カレーフェスティバル フリースケート体験会
DESCRIPTION:Jcomフィールドで「土浦カレーフェスティバル」が実施されます。\nご当地のカレーはもとより、全国各地からカレー業者が集まり、約40種類のカレー料が堪能できます。 \nフリースケート体験会は川口運動公園管理事務所前で開催します。 \n内　容　：　初めての方から上級者の方まで誰でも参加OK！ \n主催者　：　Kyoki　問い合わせ\n・ 携帯 ： 070-8582-2378（練習会当日専用） \n注　意　：\n・ いかなる事故および怪我、病気なども自己責任とさせていただきますので、\nプロテクターなど保護具の装備および体調管理などは各自でお願いします。\nまた、周囲にいる一般の方に注意して練習してください。 \n・ お子様などをお連れになる場合は、お子様から目を離さないようお願いします。\nいかなるお子様の事故および怪我、病気なども保護者の責任とさせていただきます。 \n・ 試乗用のフリースケートはこちらで用意しています。 \n・ 後日、練習会の様子をレポートとして作成し、公式サイト等にアップされます。\n参加申込み書に記入いただいた名前、写真・動画などを使用しますのでご了承ください。\n不都合がある場合は、事前にお知らせください。
URL:https://jmkride.jp/event/241123ibaraki
LOCATION:茨城 川口運動公園管理事務所前\, 川口２丁目１２−７５\, 土浦市\, 茨城県\, 300033\, Japan
CATEGORIES:体験・練習会,茨城
ATTACH;FMTTYPE=image/jpeg:https://jmkride.jp/wp-content/uploads/2024/11/241123チラシ.jpg
END:VEVENT
BEGIN:VEVENT
DTSTART;TZID=Asia/Tokyo:20241124T100000
DTEND;TZID=Asia/Tokyo:20241124T150000
DTSTAMP:20260424T143249
CREATED:20241108T123211Z
LAST-MODIFIED:20241122T125921Z
UID:10371-1732442400-1732460400@jmkride.jp
SUMMARY:茨城 カレーフェスティバル フリースケート体験会
DESCRIPTION:Jcomフィールドで「土浦カレーフェスティバル」が実施されます。\nご当地のカレーはもとより、全国各地からカレー業者が集まり、約40種類のカレー料が堪能できます。 \nフリースケート体験会は川口運動公園管理事務所前で開催します。 \n内　容　：　初めての方から上級者の方まで誰でも参加OK！ \n主催者　：　Kyoki　問い合わせ\n・ 携帯 ： 070-8582-2378（練習会当日専用） \n注　意　：\n・ いかなる事故および怪我、病気なども自己責任とさせていただきますので、\nプロテクターなど保護具の装備および体調管理などは各自でお願いします。\nまた、周囲にいる一般の方に注意して練習してください。 \n・ お子様などをお連れになる場合は、お子様から目を離さないようお願いします。\nいかなるお子様の事故および怪我、病気なども保護者の責任とさせていただきます。 \n・ 試乗用のフリースケートはこちらで用意しています。 \n・ 後日、練習会の様子をレポートとして作成し、公式サイト等にアップされます。\n参加申込み書に記入いただいた名前、写真・動画などを使用しますのでご了承ください。\n不都合がある場合は、事前にお知らせください。
URL:https://jmkride.jp/event/241124ibaraki
LOCATION:茨城 川口運動公園管理事務所前\, 川口２丁目１２−７５\, 土浦市\, 茨城県\, 300033\, Japan
CATEGORIES:体験・練習会,茨城
ATTACH;FMTTYPE=image/jpeg:https://jmkride.jp/wp-content/uploads/2024/11/241123チラシ.jpg
END:VEVENT
END:VCALENDAR